BEGIN:VCALENDAR
VERSION:2.0
PRODID:-//WBTA - ECPv6.14.0//NONSGML v1.0//EN
CALSCALE:GREGORIAN
METHOD:PUBLISH
X-ORIGINAL-URL:https://wbtai.com
X-WR-CALDESC:Events for WBTA
REFRESH-INTERVAL;VALUE=DURATION:PT1H
X-Robots-Tag:noindex
X-PUBLISHED-TTL:PT1H
BEGIN:VTIMEZONE
TZID:America/New_York
BEGIN:DAYLIGHT
TZOFFSETFROM:-0500
TZOFFSETTO:-0400
TZNAME:EDT
DTSTART:20170312T070000
END:DAYLIGHT
BEGIN:STANDARD
TZOFFSETFROM:-0400
TZOFFSETTO:-0500
TZNAME:EST
DTSTART:20171105T060000
END:STANDARD
END:VTIMEZONE
BEGIN:VEVENT
DTSTART;TZID=America/New_York:20171216T100000
DTEND;TZID=America/New_York:20171216T140000
DTSTAMP:20260420T135300
CREATED:20171209T201306Z
LAST-MODIFIED:20171211T165014Z
UID:5100-1513418400-1513432800@wbtai.com
SUMMARY:Cookie Walk
DESCRIPTION:Batavia First United Methodist Church\, Lewiston Road\, Batavia\, will host their annual Cookie Walk\, Saturday\, December 16\, 10am to 2pm. Cookies by the pound\, vendors\, crafters. Lunch available.
URL:https://wbtai.com/calendars/cookie-walk/
LOCATION:Batavia First United Methodist Church Lewiston Rd.\, Batavia\, NY
END:VEVENT
BEGIN:VEVENT
DTSTART;TZID=America/New_York:20171216T110000
DTEND;TZID=America/New_York:20171216T170000
DTSTAMP:20260420T135300
CREATED:20171209T201446Z
LAST-MODIFIED:20171211T165331Z
UID:5102-1513422000-1513443600@wbtai.com
SUMMARY:Book Signing
DESCRIPTION:Anne Marie Starowitz will be at Ken’s Charcoal Pitts\, Main Street\, Batavia\, Saturday\, December 16th\, 11am to sign her book\, ” Back in the Day”\, snapshots of local history from her point of view.
URL:https://wbtai.com/calendars/book-signing/
LOCATION:Ken’s Charcoal Pits\, Main St.\, Batavia\, NY\, Main St\, Batavia
END:VEVENT
BEGIN:VEVENT
DTSTART;TZID=America/New_York:20171216T140000
DTEND;TZID=America/New_York:20171216T140000
DTSTAMP:20260420T135300
CREATED:20171209T201623Z
LAST-MODIFIED:20171211T165707Z
UID:5104-1513432800-1513432800@wbtai.com
SUMMARY:Lester Holiday Revels
DESCRIPTION:Lester Holiday Revels\, Saturday\, Dec 16. Listen to a Celtic Holiday Revel.
URL:https://wbtai.com/calendars/lester-holiday-revels/
LOCATION:Richmond Memorial Library\, 19 Ross St.\, Batavia NY
END:VEVENT
END:VCALENDAR