BEGIN:VCALENDAR
VERSION:2.0
PRODID:-//WBTA - ECPv6.14.0//NONSGML v1.0//EN
CALSCALE:GREGORIAN
METHOD:PUBLISH
X-ORIGINAL-URL:https://wbtai.com
X-WR-CALDESC:Events for WBTA
REFRESH-INTERVAL;VALUE=DURATION:PT1H
X-Robots-Tag:noindex
X-PUBLISHED-TTL:PT1H
BEGIN:VTIMEZONE
TZID:America/New_York
BEGIN:DAYLIGHT
TZOFFSETFROM:-0500
TZOFFSETTO:-0400
TZNAME:EDT
DTSTART:20170312T070000
END:DAYLIGHT
BEGIN:STANDARD
TZOFFSETFROM:-0400
TZOFFSETTO:-0500
TZNAME:EST
DTSTART:20171105T060000
END:STANDARD
END:VTIMEZONE
BEGIN:VEVENT
DTSTART;VALUE=DATE:20171219
DTEND;VALUE=DATE:20171220
DTSTAMP:20260420T135259
CREATED:20171213T170453Z
LAST-MODIFIED:20171213T170453Z
UID:5233-1513641600-1513727999@wbtai.com
SUMMARY:RSVP for Asian Fusion Cuisine Demonstration
DESCRIPTION:RSVP by Dec 19 for the Thursday\, Dec 21st Asian Fusion Cuisine Demonstration at Go Art!\, 6:30pm – 8pm. \nDemonstration and tasting of two dishes. Call: 343-9313
URL:https://wbtai.com/calendars/rsvp-for-asian-fusion-cuisine-demonstration/
LOCATION:Go Art! 201 E Main St.\, Batavia\, NY
END:VEVENT
END:VCALENDAR