BEGIN:VCALENDAR
VERSION:2.0
PRODID:-//WBTA - ECPv6.14.0//NONSGML v1.0//EN
CALSCALE:GREGORIAN
METHOD:PUBLISH
X-ORIGINAL-URL:https://wbtai.com
X-WR-CALDESC:Events for WBTA
REFRESH-INTERVAL;VALUE=DURATION:PT1H
X-Robots-Tag:noindex
X-PUBLISHED-TTL:PT1H
BEGIN:VTIMEZONE
TZID:America/New_York
BEGIN:DAYLIGHT
TZOFFSETFROM:-0500
TZOFFSETTO:-0400
TZNAME:EDT
DTSTART:20170312T070000
END:DAYLIGHT
BEGIN:STANDARD
TZOFFSETFROM:-0400
TZOFFSETTO:-0500
TZNAME:EST
DTSTART:20171105T060000
END:STANDARD
END:VTIMEZONE
BEGIN:VEVENT
DTSTART;TZID=America/New_York:20171221T190000
DTEND;TZID=America/New_York:20171221T190000
DTSTAMP:20260420T135336
CREATED:20171209T201802Z
LAST-MODIFIED:20171211T170001Z
UID:5107-1513882800-1513882800@wbtai.com
SUMMARY:Genesee Chorale Concert
DESCRIPTION:Genesee Chorale Ensemble Concert\, Thursday\, December 21\, 7pm\, at St. Mark’s Episcopal Church\, East Main Street\, Leroy
URL:https://wbtai.com/calendars/genesee-chorale-concert/
LOCATION:St. Mark’s Episcopol Church\, East Main St.\, LeRoy\, NY
END:VEVENT
END:VCALENDAR