BEGIN:VCALENDAR
VERSION:2.0
PRODID:-//WBTA - ECPv6.14.0//NONSGML v1.0//EN
CALSCALE:GREGORIAN
METHOD:PUBLISH
X-ORIGINAL-URL:https://wbtai.com
X-WR-CALDESC:Events for WBTA
REFRESH-INTERVAL;VALUE=DURATION:PT1H
X-Robots-Tag:noindex
X-PUBLISHED-TTL:PT1H
BEGIN:VTIMEZONE
TZID:America/New_York
BEGIN:DAYLIGHT
TZOFFSETFROM:-0500
TZOFFSETTO:-0400
TZNAME:EDT
DTSTART:20170312T070000
END:DAYLIGHT
BEGIN:STANDARD
TZOFFSETFROM:-0400
TZOFFSETTO:-0500
TZNAME:EST
DTSTART:20171105T060000
END:STANDARD
END:VTIMEZONE
BEGIN:VEVENT
DTSTART;TZID=America/New_York:20171229T080000
DTEND;TZID=America/New_York:20171229T170000
DTSTAMP:20260420T135300
CREATED:20171226T154207Z
LAST-MODIFIED:20171226T154220Z
UID:5498-1514534400-1514566800@wbtai.com
SUMMARY:Batavia Lions Club Pete Arras Memorial Basketball Tournament
DESCRIPTION:Batavia Lions Club Pete Arras Memorial Boys Basketball Tournament finals will be played Friday\, December 29\, 6:30pm and 8pm\, at Genesee Community College.   WBTA will broadcast live all the action.
URL:https://wbtai.com/calendars/batavia-lions-club-pete-arras-memorial-basketball-tournament-2/
END:VEVENT
END:VCALENDAR