BEGIN:VCALENDAR
VERSION:2.0
PRODID:-//WBTA - ECPv6.14.0//NONSGML v1.0//EN
CALSCALE:GREGORIAN
METHOD:PUBLISH
X-WR-CALNAME:WBTA
X-ORIGINAL-URL:https://wbtai.com
X-WR-CALDESC:Events for WBTA
REFRESH-INTERVAL;VALUE=DURATION:PT1H
X-Robots-Tag:noindex
X-PUBLISHED-TTL:PT1H
BEGIN:VTIMEZONE
TZID:America/New_York
BEGIN:DAYLIGHT
TZOFFSETFROM:-0500
TZOFFSETTO:-0400
TZNAME:EDT
DTSTART:20180311T070000
END:DAYLIGHT
BEGIN:STANDARD
TZOFFSETFROM:-0400
TZOFFSETTO:-0500
TZNAME:EST
DTSTART:20181104T060000
END:STANDARD
END:VTIMEZONE
BEGIN:VEVENT
DTSTART;TZID=America/New_York:20180102T080000
DTEND;TZID=America/New_York:20180102T170000
DTSTAMP:20260420T101233
CREATED:20171228T145725Z
LAST-MODIFIED:20171228T145737Z
UID:5552-1514880000-1514912400@wbtai.com
SUMMARY:Batavia Christian Women's Connection
DESCRIPTION:Batavia Christian Women’s Connection will meet on Tuesday\, January 9\, at Terry Hills Restaurant\, 11:30am. RSVP By Tuesday\, January 2\, by calling Donna at 344-0331.
URL:https://wbtai.com/calendars/batavia-christian-womens-connection/
END:VEVENT
END:VCALENDAR