BEGIN:VCALENDAR
VERSION:2.0
PRODID:-//WBTA - ECPv6.14.0//NONSGML v1.0//EN
CALSCALE:GREGORIAN
METHOD:PUBLISH
X-WR-CALNAME:WBTA
X-ORIGINAL-URL:https://wbtai.com
X-WR-CALDESC:Events for WBTA
REFRESH-INTERVAL;VALUE=DURATION:PT1H
X-Robots-Tag:noindex
X-PUBLISHED-TTL:PT1H
BEGIN:VTIMEZONE
TZID:America/New_York
BEGIN:DAYLIGHT
TZOFFSETFROM:-0500
TZOFFSETTO:-0400
TZNAME:EDT
DTSTART:20180311T070000
END:DAYLIGHT
BEGIN:STANDARD
TZOFFSETFROM:-0400
TZOFFSETTO:-0500
TZNAME:EST
DTSTART:20181104T060000
END:STANDARD
END:VTIMEZONE
BEGIN:VEVENT
DTSTART;TZID=America/New_York:20180104T090000
DTEND;TZID=America/New_York:20180104T190000
DTSTAMP:20260420T101237
CREATED:20171213T163939Z
LAST-MODIFIED:20171213T163939Z
UID:5225-1515056400-1515092400@wbtai.com
SUMMARY:Book Sale
DESCRIPTION:Friends of the Richmond Memorial Library will hold their monthly book sale Thursday\, january 4th from 9am to 7pm. \nThere will be a large selection of mysteries\, science fiction\, biographies\, novels\, large print and children’s books available.
URL:https://wbtai.com/calendars/book-sale/
LOCATION:Richmond Memorial Library\, 19 Ross St.\, Batavia NY
END:VEVENT
BEGIN:VEVENT
DTSTART;TZID=America/New_York:20180104T180000
DTEND;TZID=America/New_York:20180104T210000
DTSTAMP:20260420T101237
CREATED:20171228T195616Z
LAST-MODIFIED:20171228T195631Z
UID:5586-1515088800-1515099600@wbtai.com
SUMMARY:Reel Discussions
DESCRIPTION:Come view the movie\, ” Her Majesty\, Mrs. Brown”\, and join in discussions afterward\, Thursday\, January 4\, 6pm\, at the Richmond Memorial Library\, 19 Ross Street\, Batavia.
URL:https://wbtai.com/calendars/reel-discussions-2/
LOCATION:Richmond Memorial Library\, 19 Ross St.\, Batavia NY
END:VEVENT
END:VCALENDAR