BEGIN:VCALENDAR
VERSION:2.0
PRODID:-//WBTA - ECPv6.14.0//NONSGML v1.0//EN
CALSCALE:GREGORIAN
METHOD:PUBLISH
X-WR-CALNAME:WBTA
X-ORIGINAL-URL:https://wbtai.com
X-WR-CALDESC:Events for WBTA
REFRESH-INTERVAL;VALUE=DURATION:PT1H
X-Robots-Tag:noindex
X-PUBLISHED-TTL:PT1H
BEGIN:VTIMEZONE
TZID:America/New_York
BEGIN:DAYLIGHT
TZOFFSETFROM:-0500
TZOFFSETTO:-0400
TZNAME:EDT
DTSTART:20180311T070000
END:DAYLIGHT
BEGIN:STANDARD
TZOFFSETFROM:-0400
TZOFFSETTO:-0500
TZNAME:EST
DTSTART:20181104T060000
END:STANDARD
END:VTIMEZONE
BEGIN:VEVENT
DTSTART;TZID=America/New_York:20180105T080000
DTEND;TZID=America/New_York:20180105T170000
DTSTAMP:20260420T102212
CREATED:20180105T184128Z
LAST-MODIFIED:20180105T184140Z
UID:5824-1515139200-1515171600@wbtai.com
SUMMARY:Genesee Chorale
DESCRIPTION:Singers of all voices and levels are welcome to rehearsals for the Genesee Chorale. Monday night rehearsals resume\, January 15 at 7pm\, St. James Episcopal Church\, Main Street\, Batavia. For more information call 716-531-8986 or email at info@geneseechorale.com.
URL:https://wbtai.com/calendars/genesee-chorale/
END:VEVENT
END:VCALENDAR