BEGIN:VCALENDAR
VERSION:2.0
PRODID:-//WBTA - ECPv6.14.0//NONSGML v1.0//EN
CALSCALE:GREGORIAN
METHOD:PUBLISH
X-WR-CALNAME:WBTA
X-ORIGINAL-URL:https://wbtai.com
X-WR-CALDESC:Events for WBTA
REFRESH-INTERVAL;VALUE=DURATION:PT1H
X-Robots-Tag:noindex
X-PUBLISHED-TTL:PT1H
BEGIN:VTIMEZONE
TZID:America/New_York
BEGIN:DAYLIGHT
TZOFFSETFROM:-0500
TZOFFSETTO:-0400
TZNAME:EDT
DTSTART:20180311T070000
END:DAYLIGHT
BEGIN:STANDARD
TZOFFSETFROM:-0400
TZOFFSETTO:-0500
TZNAME:EST
DTSTART:20181104T060000
END:STANDARD
END:VTIMEZONE
BEGIN:VEVENT
DTSTART;TZID=America/New_York:20180106T170000
DTEND;TZID=America/New_York:20180106T170000
DTSTAMP:20260420T101238
CREATED:20171209T201936Z
LAST-MODIFIED:20171211T170206Z
UID:5109-1515258000-1515258000@wbtai.com
SUMMARY:Caring for Kailyn Benefit
DESCRIPTION:Caring for Kailyn Benefit\, Saturday\, January 6\, at Slomba Hall\, 17 Sumner Street\, Batavia. Kailyn is a three month old with Hydrocephalus. Music food\, and more! Get your tickets at Batavia Tailors and Cleaners or online.
URL:https://wbtai.com/calendars/caring-for-kailyn-benefit/
LOCATION:Slomba Hall\, 17 Sumner St.\, Batavia\, NY
END:VEVENT
END:VCALENDAR