BEGIN:VCALENDAR
VERSION:2.0
PRODID:-//WBTA - ECPv6.14.0//NONSGML v1.0//EN
CALSCALE:GREGORIAN
METHOD:PUBLISH
X-ORIGINAL-URL:https://wbtai.com
X-WR-CALDESC:Events for WBTA
REFRESH-INTERVAL;VALUE=DURATION:PT1H
X-Robots-Tag:noindex
X-PUBLISHED-TTL:PT1H
BEGIN:VTIMEZONE
TZID:America/New_York
BEGIN:DAYLIGHT
TZOFFSETFROM:-0500
TZOFFSETTO:-0400
TZNAME:EDT
DTSTART:20180311T070000
END:DAYLIGHT
BEGIN:STANDARD
TZOFFSETFROM:-0400
TZOFFSETTO:-0500
TZNAME:EST
DTSTART:20181104T060000
END:STANDARD
END:VTIMEZONE
BEGIN:VEVENT
DTSTART;TZID=America/New_York:20180118T100000
DTEND;TZID=America/New_York:20180118T130000
DTSTAMP:20260420T133757
CREATED:20171228T194018Z
LAST-MODIFIED:20171228T194033Z
UID:5580-1516269600-1516280400@wbtai.com
SUMMARY:Learn about Facebook
DESCRIPTION:Learn about Facebook and sign up for an account in this hands on classs Thursday\, January 18\, 10am to 1pm at the Richmond Memorial Library\, 19 Ross Street\, Batavia.
URL:https://wbtai.com/calendars/learn-about-facebook/
LOCATION:Richmond Memorial Library\, 19 Ross St.\, Batavia NY
END:VEVENT
BEGIN:VEVENT
DTSTART;TZID=America/New_York:20180118T130000
DTEND;TZID=America/New_York:20180118T160000
DTSTAMP:20260420T133757
CREATED:20171228T195008Z
LAST-MODIFIED:20171228T195025Z
UID:5582-1516280400-1516291200@wbtai.com
SUMMARY:Gadgets & Gear
DESCRIPTION:Bring your E-readers\, phones\, laptops\, tablets\, and your questions to the Richmond Memorial Library\, 19 Ross Street\, Batavia\, Thursday\, January 18\, 1pm to 4pm and they will answer your questions about your gadets.  Call 343-9550 to register.
URL:https://wbtai.com/calendars/gadgets-gear/
LOCATION:Richmond Memorial Library\, 19 Ross St.\, Batavia NY
END:VEVENT
BEGIN:VEVENT
DTSTART;TZID=America/New_York:20180118T183000
DTEND;TZID=America/New_York:20180118T183000
DTSTAMP:20260420T133757
CREATED:20171228T190829Z
LAST-MODIFIED:20171228T190840Z
UID:5571-1516300200-1516300200@wbtai.com
SUMMARY:Helix Hat Knitting Class
DESCRIPTION:A  free Helix Hat Knitting Class  for adults will be taught by Linda Daviau Thursday\, January 18\, 6:30pm\, at the Richmond Memorial Library\, 19 Ross Street\, Batavia. You must bring 3 colors of yarn and a 16 inch circular needle appropriate to your yarn size and know how to knit and purl. Register by calling 343-9550.
URL:https://wbtai.com/calendars/helix-hat-knitting-class/
LOCATION:Richmond Memorial Library\, 19 Ross St.\, Batavia NY
END:VEVENT
END:VCALENDAR