BEGIN:VCALENDAR
VERSION:2.0
PRODID:-//WBTA - ECPv6.14.0//NONSGML v1.0//EN
CALSCALE:GREGORIAN
METHOD:PUBLISH
X-WR-CALNAME:WBTA
X-ORIGINAL-URL:https://wbtai.com
X-WR-CALDESC:Events for WBTA
REFRESH-INTERVAL;VALUE=DURATION:PT1H
X-Robots-Tag:noindex
X-PUBLISHED-TTL:PT1H
BEGIN:VTIMEZONE
TZID:America/New_York
BEGIN:DAYLIGHT
TZOFFSETFROM:-0500
TZOFFSETTO:-0400
TZNAME:EDT
DTSTART:20180311T070000
END:DAYLIGHT
BEGIN:STANDARD
TZOFFSETFROM:-0400
TZOFFSETTO:-0500
TZNAME:EST
DTSTART:20181104T060000
END:STANDARD
END:VTIMEZONE
BEGIN:VEVENT
DTSTART;TZID=America/New_York:20180128T110000
DTEND;TZID=America/New_York:20180128T140000
DTSTAMP:20260420T102214
CREATED:20180119T205050Z
LAST-MODIFIED:20180119T205110Z
UID:6352-1517137200-1517148000@wbtai.com
SUMMARY:Bridal Show
DESCRIPTION:The Lodge at Hidden Valley Animal Adventure\, Varysburg\, will host a bridal show on Sunday\, January 28th from 11am to 2pm.
URL:https://wbtai.com/calendars/bridal-show-2/
END:VEVENT
BEGIN:VEVENT
DTSTART;TZID=America/New_York:20180128T140000
DTEND;TZID=America/New_York:20180128T180000
DTSTAMP:20260420T102214
CREATED:20180119T195218Z
LAST-MODIFIED:20180119T195238Z
UID:6344-1517148000-1517162400@wbtai.com
SUMMARY:We Didn't Start the Fire
DESCRIPTION:There will be a benefit for the Martino Family who were burned out of their home recently\, Sunday\, January 28\, 2pm to 6pm at T. F. Brown’s Restaurant\, 214 Main Street\, Batavia. For more information call 409-3149.
URL:https://wbtai.com/calendars/we-didnt-start-the-fire-2/
END:VEVENT
END:VCALENDAR