BEGIN:VCALENDAR
VERSION:2.0
PRODID:-//WBTA - ECPv6.14.0//NONSGML v1.0//EN
CALSCALE:GREGORIAN
METHOD:PUBLISH
X-WR-CALNAME:WBTA
X-ORIGINAL-URL:https://wbtai.com
X-WR-CALDESC:Events for WBTA
REFRESH-INTERVAL;VALUE=DURATION:PT1H
X-Robots-Tag:noindex
X-PUBLISHED-TTL:PT1H
BEGIN:VTIMEZONE
TZID:America/New_York
BEGIN:DAYLIGHT
TZOFFSETFROM:-0500
TZOFFSETTO:-0400
TZNAME:EDT
DTSTART:20180311T070000
END:DAYLIGHT
BEGIN:STANDARD
TZOFFSETFROM:-0400
TZOFFSETTO:-0500
TZNAME:EST
DTSTART:20181104T060000
END:STANDARD
END:VTIMEZONE
BEGIN:VEVENT
DTSTART;TZID=America/New_York:20180129T183000
DTEND;TZID=America/New_York:20180129T193000
DTSTAMP:20260420T064007
CREATED:20171228T185956Z
LAST-MODIFIED:20171228T190018Z
UID:5567-1517250600-1517254200@wbtai.com
SUMMARY:Learn how to download eBooks
DESCRIPTION:The Richmond Memorial Library\, 19 Ross Street\, Batavia\, will help you learn how to download free eBooks and Magazines to your device on Monday\, Janauary 29\, 6:30pm. Registration is required. Call 343-9550.
URL:https://wbtai.com/calendars/learn-how-to-download-ebooks/
LOCATION:Richmond Memorial Library\, 19 Ross St.\, Batavia NY
END:VEVENT
END:VCALENDAR