BEGIN:VCALENDAR
VERSION:2.0
PRODID:-//WBTA - ECPv6.14.0//NONSGML v1.0//EN
CALSCALE:GREGORIAN
METHOD:PUBLISH
X-ORIGINAL-URL:https://wbtai.com
X-WR-CALDESC:Events for WBTA
REFRESH-INTERVAL;VALUE=DURATION:PT1H
X-Robots-Tag:noindex
X-PUBLISHED-TTL:PT1H
BEGIN:VTIMEZONE
TZID:America/New_York
BEGIN:DAYLIGHT
TZOFFSETFROM:-0500
TZOFFSETTO:-0400
TZNAME:EDT
DTSTART:20180311T070000
END:DAYLIGHT
BEGIN:STANDARD
TZOFFSETFROM:-0400
TZOFFSETTO:-0500
TZNAME:EST
DTSTART:20181104T060000
END:STANDARD
END:VTIMEZONE
BEGIN:VEVENT
DTSTART;TZID=America/New_York:20180325T090000
DTEND;TZID=America/New_York:20180325T130000
DTSTAMP:20260420T031602
CREATED:20180212T194123Z
LAST-MODIFIED:20180212T194135Z
UID:7015-1521968400-1521982800@wbtai.com
SUMMARY:Alexander Breakfast
DESCRIPTION:Alexander Fire Department will host an all you can eat breakfast with the Easter Bunny\, Sunday\, March 25\, 8am to noon at the fire hall. (for more information contact Barbara Eddy at 507-9930)
URL:https://wbtai.com/calendars/alexander-breakfast-2/
END:VEVENT
BEGIN:VEVENT
DTSTART;TZID=America/New_York:20180325T103000
DTEND;TZID=America/New_York:20180325T163000
DTSTAMP:20260420T031602
CREATED:20180207T213024Z
LAST-MODIFIED:20180207T213036Z
UID:6787-1521973800-1521995400@wbtai.com
SUMMARY:Great Batavia Train Show
DESCRIPTION:The Genesee Society of Model Engineers will host the Great Batavia Train Show\, Sunday\, March 25\, 9:30am to 3:30pm at the Richard C. Call Arena at GCC Batavia Campus. Children under age 13 are free.
URL:https://wbtai.com/calendars/great-batavia-train-show/
END:VEVENT
END:VCALENDAR