BEGIN:VCALENDAR
VERSION:2.0
PRODID:-//WBTA - ECPv6.14.0//NONSGML v1.0//EN
CALSCALE:GREGORIAN
METHOD:PUBLISH
X-WR-CALNAME:WBTA
X-ORIGINAL-URL:https://wbtai.com
X-WR-CALDESC:Events for WBTA
REFRESH-INTERVAL;VALUE=DURATION:PT1H
X-Robots-Tag:noindex
X-PUBLISHED-TTL:PT1H
BEGIN:VTIMEZONE
TZID:America/New_York
BEGIN:DAYLIGHT
TZOFFSETFROM:-0500
TZOFFSETTO:-0400
TZNAME:EDT
DTSTART:20180311T070000
END:DAYLIGHT
BEGIN:STANDARD
TZOFFSETFROM:-0400
TZOFFSETTO:-0500
TZNAME:EST
DTSTART:20181104T060000
END:STANDARD
END:VTIMEZONE
BEGIN:VEVENT
DTSTART;TZID=America/New_York:20180414T100000
DTEND;TZID=America/New_York:20180414T130000
DTSTAMP:20260419T195937
CREATED:20180410T203336Z
LAST-MODIFIED:20180410T203351Z
UID:8430-1523700000-1523710800@wbtai.com
SUMMARY:Cooking Demo
DESCRIPTION:Join Kathy Saville as she demonstrates the art of making pierogi at Go Art! cooking demo Saturday\, April 14\, 9am to noon.  Register in person at 201 East Main Street\, Batavia\, or by calling 343-9313.
URL:https://wbtai.com/calendars/cooking-demo/
END:VEVENT
BEGIN:VEVENT
DTSTART;TZID=America/New_York:20180414T110000
DTEND;TZID=America/New_York:20180414T130000
DTSTAMP:20260419T195937
CREATED:20180314T111214Z
LAST-MODIFIED:20180314T111409Z
UID:7814-1523703600-1523710800@wbtai.com
SUMMARY:Aglow International of Batavia - Speaker JoAnn MacCowan
DESCRIPTION:Aglow International of Batavia\, N.Y. \nApril 14\,2018 @ 10 AM \nPlace: Northgate Free Methodist Church \n8160 Bank Street Road Batavia N.Y. 14020 \nSpeaker – JoAnn MacCowan \ncoffee and donuts breakfast \n$2 donation requested to cover supplies. \nFor information call 585-343-6433
URL:https://wbtai.com/calendars/aglow-international-of-batavia-speaker-joann-maccowan/
END:VEVENT
BEGIN:VEVENT
DTSTART;TZID=America/New_York:20180414T110000
DTEND;TZID=America/New_York:20180414T160000
DTSTAMP:20260419T195937
CREATED:20180329T144811Z
LAST-MODIFIED:20180329T144811Z
UID:8135-1523703600-1523721600@wbtai.com
SUMMARY:Gowns on a Dime
DESCRIPTION:Gowns on a Dime – Saturday\, April 14th 10 – 3pm \nSponsored by Batavia First United Methodist Church – 8221 Lewiston Rd. Batavia \nSomething for everyone\, prom\, bridal\, bridesmaids\, special occasion\, mother of the bride.\nMany styles to choose from. \nThere will be a formal wear consultant available to help you find the perfect dress! \nRefreshments will be served. \nGowns all priced at 10!!! Shop with us and be treated like a princess! \n*Gown donations accepted Tues-Fri 9-12* \nFor more info call (585) 343-4708
URL:https://wbtai.com/calendars/gowns-on-a-dime/
END:VEVENT
BEGIN:VEVENT
DTSTART;TZID=America/New_York:20180414T110000
DTEND;TZID=America/New_York:20180414T170000
DTSTAMP:20260419T195937
CREATED:20180410T185338Z
LAST-MODIFIED:20180410T185348Z
UID:8403-1523703600-1523725200@wbtai.com
SUMMARY:Antique Show
DESCRIPTION:Genesee Country Village & Museum\, Mumford\, will host the 20th annual Antique Show\, on Saturday\, April 21\, 10am to 4pm.  For more information visit the museum website or call 585-294-8218.
URL:https://wbtai.com/calendars/antique-show/
END:VEVENT
BEGIN:VEVENT
DTSTART;TZID=America/New_York:20180414T120000
DTEND;TZID=America/New_York:20180414T150000
DTSTAMP:20260419T195937
CREATED:20180227T171114Z
LAST-MODIFIED:20180227T171139Z
UID:7422-1523707200-1523718000@wbtai.com
SUMMARY:All Babies Cherished
DESCRIPTION:All Babies Cherished will hold a basket auction\, Saturday\, April 14\, at the Arc Community Center\, 38 Woodrow Road\, Batavia\, 11am to 2pm. Lunch available. Call 344-5660 for more information.
URL:https://wbtai.com/calendars/all-babies-cherished/
END:VEVENT
BEGIN:VEVENT
DTSTART;TZID=America/New_York:20180414T190000
DTEND;TZID=America/New_York:20180414T220000
DTSTAMP:20260419T195937
CREATED:20180410T191550Z
LAST-MODIFIED:20180410T191601Z
UID:8413-1523732400-1523743200@wbtai.com
SUMMARY:Old-Time Radio Dinner Theater
DESCRIPTION:St. Mark’s Episcopal Church\, LeRoy\, and St. Paul’s Episcopal Church\, Stafford\, present an Old Time Radio Dinner Theater\, Saturday\, April 14\, 6pm\, at St. Paul’s Social Hall\, Stafford. Tickets are presale ONLY. Call 585-768-7200.
URL:https://wbtai.com/calendars/old-time-radio-dinner-theater/
END:VEVENT
BEGIN:VEVENT
DTSTART;TZID=America/New_York:20180414T200000
DTEND;TZID=America/New_York:20180414T233000
DTSTAMP:20260419T195937
CREATED:20180314T112227Z
LAST-MODIFIED:20180314T112227Z
UID:7816-1523736000-1523748600@wbtai.com
SUMMARY:Sheldon's Square Dance
DESCRIPTION:Sheldon’s Square Dance \nAt the Strykersville Fire Hall \n594 Minkel Road Strykersville\, NY 14145 \n(Just east of Route 78) \nSat. April 14\, 2018 from 7 – 10:30 PM \n\nFeaturing Gary Burdick and Edge of Sundown Band\n$6 Admission\, 5 and under Free\nRefreshments Available\n\nSponsored by Sheldon Fire Co. Auxiliary \nFor more information call (585) 457-9536 or (585) 356-8760
URL:https://wbtai.com/calendars/sheldons-square-dance/
END:VEVENT
END:VCALENDAR