BEGIN:VCALENDAR
VERSION:2.0
PRODID:-//WBTA - ECPv6.14.0//NONSGML v1.0//EN
CALSCALE:GREGORIAN
METHOD:PUBLISH
X-ORIGINAL-URL:https://wbtai.com
X-WR-CALDESC:Events for WBTA
REFRESH-INTERVAL;VALUE=DURATION:PT1H
X-Robots-Tag:noindex
X-PUBLISHED-TTL:PT1H
BEGIN:VTIMEZONE
TZID:America/New_York
BEGIN:DAYLIGHT
TZOFFSETFROM:-0500
TZOFFSETTO:-0400
TZNAME:EDT
DTSTART:20180311T070000
END:DAYLIGHT
BEGIN:STANDARD
TZOFFSETFROM:-0400
TZOFFSETTO:-0500
TZNAME:EST
DTSTART:20181104T060000
END:STANDARD
END:VTIMEZONE
BEGIN:VEVENT
DTSTART;TZID=America/New_York:20180415T090000
DTEND;TZID=America/New_York:20180415T130000
DTSTAMP:20260419T200206
CREATED:20180410T141534Z
LAST-MODIFIED:20180410T141623Z
UID:8361-1523782800-1523797200@wbtai.com
SUMMARY:Pancake Breakfast @ Godfrey's Pond 
DESCRIPTION:Pancake Breakfast @ Godfrey’s Pond \nSunday\, April 15th from 8 am to 12 pm \nAt Godfrey’s Pond off Griswold Road in Stafford \nTicket’s are $8 for Adults\, $6 Seniors\, $4 Children \nBreakfast includes sausage\, pancakes\, eggs\, bacon\, juice and coffee. \n 
URL:https://wbtai.com/calendars/pancake-breakfast-godfreys-pond-2/
END:VEVENT
BEGIN:VEVENT
DTSTART;TZID=America/New_York:20180415T130000
DTEND;TZID=America/New_York:20180415T150000
DTSTAMP:20260419T200206
CREATED:20180221T192630Z
LAST-MODIFIED:20180221T192642Z
UID:7292-1523797200-1523804400@wbtai.com
SUMMARY:Fashion Show Luncheon
DESCRIPTION:St. Jerome Guild will host a Fashion Show luncheon\, ” Step Into Spring”\, Sunday\, April 15\, noon\, at Slomba Hall\, 19 Sumner Street\, Batavia. Tickets are pre-sale ONLY and available at the Jerome Center Gift Shop.
URL:https://wbtai.com/calendars/fashion-show-luncheon/
END:VEVENT
END:VCALENDAR