BEGIN:VCALENDAR
VERSION:2.0
PRODID:-//WBTA - ECPv6.14.0//NONSGML v1.0//EN
CALSCALE:GREGORIAN
METHOD:PUBLISH
X-ORIGINAL-URL:https://wbtai.com
X-WR-CALDESC:Events for WBTA
REFRESH-INTERVAL;VALUE=DURATION:PT1H
X-Robots-Tag:noindex
X-PUBLISHED-TTL:PT1H
BEGIN:VTIMEZONE
TZID:America/New_York
BEGIN:DAYLIGHT
TZOFFSETFROM:-0500
TZOFFSETTO:-0400
TZNAME:EDT
DTSTART:20180311T070000
END:DAYLIGHT
BEGIN:STANDARD
TZOFFSETFROM:-0400
TZOFFSETTO:-0500
TZNAME:EST
DTSTART:20181104T060000
END:STANDARD
END:VTIMEZONE
BEGIN:VEVENT
DTSTART;TZID=America/New_York:20180417T193000
DTEND;TZID=America/New_York:20180417T213000
DTSTAMP:20260419T200110
CREATED:20180410T190207Z
LAST-MODIFIED:20180410T190216Z
UID:8407-1523993400-1524000600@wbtai.com
SUMMARY:Adult Book discussion
DESCRIPTION:The evening adult book discussion group will meet Tuesday\, April 17\, 6:30pm\, at the Richmond Memorial Library\, 19 Ross Street\, Batavia\, to discuss what members are currently reading.
URL:https://wbtai.com/calendars/adult-book-discussion-2/
LOCATION:Richmond Memorial Library\, 19 Ross St.\, Batavia NY
END:VEVENT
BEGIN:VEVENT
DTSTART;TZID=America/New_York:20180417T200000
DTEND;TZID=America/New_York:20180417T210000
DTSTAMP:20260419T200110
CREATED:20180416T170911Z
LAST-MODIFIED:20180416T170940Z
UID:8592-1523995200-1523998800@wbtai.com
SUMMARY:The Economics of Industrial Solar
DESCRIPTION:Stafford Solar Study Committee presents a talk on the Economics of Industrial Solar by Steve Goreham\, Tuesday\, April 17\, 6pm\, at the Stafford Town Hall\, Rte. 237.
URL:https://wbtai.com/calendars/the-economics-of-industrial-solar/
END:VEVENT
END:VCALENDAR