BEGIN:VCALENDAR
VERSION:2.0
PRODID:-//WBTA - ECPv6.14.0//NONSGML v1.0//EN
CALSCALE:GREGORIAN
METHOD:PUBLISH
X-WR-CALNAME:WBTA
X-ORIGINAL-URL:https://wbtai.com
X-WR-CALDESC:Events for WBTA
REFRESH-INTERVAL;VALUE=DURATION:PT1H
X-Robots-Tag:noindex
X-PUBLISHED-TTL:PT1H
BEGIN:VTIMEZONE
TZID:America/New_York
BEGIN:DAYLIGHT
TZOFFSETFROM:-0500
TZOFFSETTO:-0400
TZNAME:EDT
DTSTART:20180311T070000
END:DAYLIGHT
BEGIN:STANDARD
TZOFFSETFROM:-0400
TZOFFSETTO:-0500
TZNAME:EST
DTSTART:20181104T060000
END:STANDARD
END:VTIMEZONE
BEGIN:VEVENT
DTSTART;TZID=America/New_York:20180420T090000
DTEND;TZID=America/New_York:20180420T150000
DTSTAMP:20260419T195940
CREATED:20180418T150801Z
LAST-MODIFIED:20180418T150813Z
UID:8654-1524214800-1524236400@wbtai.com
SUMMARY:Rummage Sale
DESCRIPTION:St. Paul Episcopal Church\, Rt. 5\, Stafford\, will hold a rummage and bake sale\, Friday\, April 20\, 9am to 3pm.
URL:https://wbtai.com/calendars/rummage-sale-3/
END:VEVENT
BEGIN:VEVENT
DTSTART;TZID=America/New_York:20180420T100000
DTEND;TZID=America/New_York:20180420T160000
DTSTAMP:20260419T195940
CREATED:20180410T192631Z
LAST-MODIFIED:20180410T192641Z
UID:8421-1524218400-1524240000@wbtai.com
SUMMARY:rummage sale
DESCRIPTION:St. Paul’s Episcopal Church\, Rt. 5\, Stafford\, will hold a rummage and baked goods sale\, Friday\, April 20\, 9am to 3pm. and on Saturday\, April 21\, a bag sale from 9am to noon.
URL:https://wbtai.com/calendars/rummage-sale-2/
END:VEVENT
BEGIN:VEVENT
DTSTART;TZID=America/New_York:20180420T203000
DTEND;TZID=America/New_York:20180421T230000
DTSTAMP:20260419T195940
CREATED:20180410T200840Z
LAST-MODIFIED:20180410T200851Z
UID:8428-1524256200-1524351600@wbtai.com
SUMMARY:Harvester 56 Theatre
DESCRIPTION:Shakespeare’s ” Merry Wives of Windsor”  will be on stage at Harvester 56 Theater\, Friday and Saturday\, April 20th and 21st\, at 7:30pm. Tickets available at the door.
URL:https://wbtai.com/calendars/harvester-56-theatre-2/
END:VEVENT
END:VCALENDAR