BEGIN:VCALENDAR
VERSION:2.0
PRODID:-//WBTA - ECPv6.14.0//NONSGML v1.0//EN
CALSCALE:GREGORIAN
METHOD:PUBLISH
X-ORIGINAL-URL:https://wbtai.com
X-WR-CALDESC:Events for WBTA
REFRESH-INTERVAL;VALUE=DURATION:PT1H
X-Robots-Tag:noindex
X-PUBLISHED-TTL:PT1H
BEGIN:VTIMEZONE
TZID:America/New_York
BEGIN:DAYLIGHT
TZOFFSETFROM:-0500
TZOFFSETTO:-0400
TZNAME:EDT
DTSTART:20180311T070000
END:DAYLIGHT
BEGIN:STANDARD
TZOFFSETFROM:-0400
TZOFFSETTO:-0500
TZNAME:EST
DTSTART:20181104T060000
END:STANDARD
END:VTIMEZONE
BEGIN:VEVENT
DTSTART;TZID=America/New_York:20180424T080000
DTEND;TZID=America/New_York:20180424T170000
DTSTAMP:20260419T200209
CREATED:20180420T163728Z
LAST-MODIFIED:20180420T163742Z
UID:8728-1524556800-1524589200@wbtai.com
SUMMARY:Autism 101
DESCRIPTION:An introduction to Autism for families\, caregivers\, and interested community members will be held Wednesday\, April 25\, 6:30pm at the Arc Genesee Orleans in Albion and on Thursday\, April 26th\, 6:30pm\, at the Arc Community Center\, Woodrow road\, Batavia. Please register for either of these presentations by Tuesday\, April 24th at 344-1678 ext. 229.
URL:https://wbtai.com/calendars/autism-101/
END:VEVENT
BEGIN:VEVENT
DTSTART;TZID=America/New_York:20180424T180000
DTEND;TZID=America/New_York:20180424T203000
DTSTAMP:20260419T200209
CREATED:20180322T183535Z
LAST-MODIFIED:20180322T183535Z
UID:7999-1524592800-1524601800@wbtai.com
SUMMARY:Pulled Pork Dinner
DESCRIPTION:Batavia First United Methodist Church\, 8221 Lewiston Rd.\, Batavia\nMenu: Pulled Pork on Deli Roll\, Coleslaw\, Baked Beans\, Applesauce\, Brownie\, Coffee-Tea-Lemonade\nPre-sale Adult ticket: $11.00 (call 344-1302)\nAdult ticket at the door: $12.00\nChildren ages 6-12: $6.00\nChildren 5 & under free.\nTakeout Available
URL:https://wbtai.com/calendars/pulled-pork-dinner/
LOCATION:Batavia First United Methodist Church Lewiston Rd.\, Batavia\, NY
END:VEVENT
END:VCALENDAR