BEGIN:VCALENDAR
VERSION:2.0
PRODID:-//WBTA - ECPv6.14.0//NONSGML v1.0//EN
CALSCALE:GREGORIAN
METHOD:PUBLISH
X-WR-CALNAME:WBTA
X-ORIGINAL-URL:https://wbtai.com
X-WR-CALDESC:Events for WBTA
REFRESH-INTERVAL;VALUE=DURATION:PT1H
X-Robots-Tag:noindex
X-PUBLISHED-TTL:PT1H
BEGIN:VTIMEZONE
TZID:America/New_York
BEGIN:DAYLIGHT
TZOFFSETFROM:-0500
TZOFFSETTO:-0400
TZNAME:EDT
DTSTART:20180311T070000
END:DAYLIGHT
BEGIN:STANDARD
TZOFFSETFROM:-0400
TZOFFSETTO:-0500
TZNAME:EST
DTSTART:20181104T060000
END:STANDARD
END:VTIMEZONE
BEGIN:VEVENT
DTSTART;TZID=America/New_York:20180511T193000
DTEND;TZID=America/New_York:20180519T220000
DTSTAMP:20260419T163044
CREATED:20180501T135745Z
LAST-MODIFIED:20180501T140017Z
UID:8938-1526067000-1526767200@wbtai.com
SUMMARY:Cabaret
DESCRIPTION:Harvester 56 Theater presents\, “Cabaret” Friday\, May 11\,  and 18 ; Saturday\, May 12 and 19\, at 7:30pm and a matinee on Sunday\, May 13 at 2pm. Tickets available at the Harvester 56 Box Office or online at Bataviaplayers.org.
URL:https://wbtai.com/calendars/cabaret/
END:VEVENT
BEGIN:VEVENT
DTSTART;TZID=America/New_York:20180518T090000
DTEND;TZID=America/New_York:20180519T140000
DTSTAMP:20260419T163044
CREATED:20180509T160712Z
LAST-MODIFIED:20180509T160728Z
UID:9153-1526634000-1526738400@wbtai.com
SUMMARY:Rummage Sale
DESCRIPTION:St. Mark’s Episcopal Church\, East Main & Church Streets\, LeRoy\, will host their spring rummage sale\, Friday\, May 18\, 9am to 3pm and on Saturday\, May 19 from 10 to 2pm.
URL:https://wbtai.com/calendars/rummage-sale-4/
END:VEVENT
BEGIN:VEVENT
DTSTART;TZID=America/New_York:20180519T070000
DTEND;TZID=America/New_York:20180519T100000
DTSTAMP:20260419T163044
CREATED:20180416T171323Z
LAST-MODIFIED:20180514T152855Z
UID:8596-1526713200-1526724000@wbtai.com
SUMMARY:WBTA Auction
DESCRIPTION:Save the Date! WBTA Auction\, Saturday\, May 19\, 7am!
URL:https://wbtai.com/calendars/wbta-auction-2/
END:VEVENT
BEGIN:VEVENT
DTSTART;TZID=America/New_York:20180519T080000
DTEND;TZID=America/New_York:20180519T170000
DTSTAMP:20260419T163044
CREATED:20180423T195012Z
LAST-MODIFIED:20180423T195025Z
UID:8772-1526716800-1526749200@wbtai.com
SUMMARY:Michael Kennedy Memorial Golf
DESCRIPTION:Registration deadline for the 12th annual Michael Kennedy Memorial Golf Tournament is Saturday\, May 19th. Tournament to be played at Meadow Brook Golf Course\, June 9\, 7:30am. Contact Jason Austin for more information and registration at 716-510-6213.
URL:https://wbtai.com/calendars/michael-kennedy-memorial-golf/
END:VEVENT
BEGIN:VEVENT
DTSTART;TZID=America/New_York:20180519T080000
DTEND;TZID=America/New_York:20180519T170000
DTSTAMP:20260419T163044
CREATED:20180509T153554Z
LAST-MODIFIED:20180509T153626Z
UID:9145-1526716800-1526749200@wbtai.com
SUMMARY:Hooch Heimlich Memorial Golf Tournament
DESCRIPTION:Hooch Heimlich Memorial Golf Tournament will be held Saturday\, May 19\, at the LeRoy Country Club. Proceeds benefit LeRoy Sports Boosters. For more information contract Martha Bailey .
URL:https://wbtai.com/calendars/hooch-heimlich-memorial-golf-tournament/
END:VEVENT
BEGIN:VEVENT
DTSTART;TZID=America/New_York:20180519T090000
DTEND;TZID=America/New_York:20180519T120000
DTSTAMP:20260419T163044
CREATED:20180418T141905Z
LAST-MODIFIED:20180418T141915Z
UID:8641-1526720400-1526731200@wbtai.com
SUMMARY:Wyoming Garden Day
DESCRIPTION:Wyoming County Cornell Cooperative Extension Garden Day will be held Saturday\, May 19\, 9am to noon rain or shine. (for more information contact Lisa at 786-2251 ext. 123.
URL:https://wbtai.com/calendars/wyoming-garden-day/
END:VEVENT
BEGIN:VEVENT
DTSTART;TZID=America/New_York:20180519T090000
DTEND;TZID=America/New_York:20180519T130000
DTSTAMP:20260419T163044
CREATED:20180425T144238Z
LAST-MODIFIED:20180425T144250Z
UID:8815-1526720400-1526734800@wbtai.com
SUMMARY:Hospice Walk
DESCRIPTION:22nd annual Hospice Walk and run will be held Saturday\, May 19\, on the Allegheny River Trail\, located at the west entrance of St. Bonaventure University. Pre-registration starts at 9am. All runners\, walkers\, strollers\, wheelchairs and pets are welcome. Register online or call Nick O’Keefe at 716-372-2106 for more information and registration.
URL:https://wbtai.com/calendars/hospice-walk/
END:VEVENT
BEGIN:VEVENT
DTSTART;TZID=America/New_York:20180519T100000
DTEND;TZID=America/New_York:20180519T130000
DTSTAMP:20260419T163044
CREATED:20180418T140453Z
LAST-MODIFIED:20180418T140507Z
UID:8635-1526724000-1526734800@wbtai.com
SUMMARY:Master Gardener Spring Gala
DESCRIPTION:Rain or shine\, the Genesee County Master Gardeners will host their annual Spring Garden Gala\, Saturday\, May 19\, 10am to 1pm\, at the Cornell Cooperative Extension\, 420 East Main Street\, Batavia. A variety of perennials will be available\, as well as garden art. Bring your soil sample in for a free ph test. Master gardeners will be available to answer your gardening questions.
URL:https://wbtai.com/calendars/master-gardener-spring-gala/
END:VEVENT
BEGIN:VEVENT
DTSTART;TZID=America/New_York:20180519T130000
DTEND;TZID=America/New_York:20180519T170000
DTSTAMP:20260419T163044
CREATED:20180410T203924Z
LAST-MODIFIED:20180410T203937Z
UID:8434-1526734800-1526749200@wbtai.com
SUMMARY:Crossroads House Event
DESCRIPTION:Crossroads House annual Spring fundraiser will be held Saturday\, May 19\, noon to 4pm at the Arc Community Center\, 38 Woodrow\, Batavia.
URL:https://wbtai.com/calendars/crossroads-house-event/
END:VEVENT
BEGIN:VEVENT
DTSTART;TZID=America/New_York:20180519T163000
DTEND;TZID=America/New_York:20180519T180000
DTSTAMP:20260419T163044
CREATED:20180425T143751Z
LAST-MODIFIED:20180425T143803Z
UID:8813-1526747400-1526752800@wbtai.com
SUMMARY:Chicken BBQ
DESCRIPTION:First Congregational Church\, Rt. 20A\, in Perry Center\, will host a chicken bbq\, Saturday\, May 19\, starting at 4:30pm.
URL:https://wbtai.com/calendars/chicken-bbq-5/
END:VEVENT
END:VCALENDAR