BEGIN:VCALENDAR
VERSION:2.0
PRODID:-//WBTA - ECPv6.14.0//NONSGML v1.0//EN
CALSCALE:GREGORIAN
METHOD:PUBLISH
X-ORIGINAL-URL:https://wbtai.com
X-WR-CALDESC:Events for WBTA
REFRESH-INTERVAL;VALUE=DURATION:PT1H
X-Robots-Tag:noindex
X-PUBLISHED-TTL:PT1H
BEGIN:VTIMEZONE
TZID:America/New_York
BEGIN:DAYLIGHT
TZOFFSETFROM:-0500
TZOFFSETTO:-0400
TZNAME:EDT
DTSTART:20180311T070000
END:DAYLIGHT
BEGIN:STANDARD
TZOFFSETFROM:-0400
TZOFFSETTO:-0500
TZNAME:EST
DTSTART:20181104T060000
END:STANDARD
END:VTIMEZONE
BEGIN:VEVENT
DTSTART;TZID=America/New_York:20180524T090000
DTEND;TZID=America/New_York:20180525T170000
DTSTAMP:20260419T164532
CREATED:20180522T191119Z
LAST-MODIFIED:20180522T191131Z
UID:9439-1527152400-1527267600@wbtai.com
SUMMARY:Batavia Rotary Flags & Flower Sale
DESCRIPTION:Batavia Rotary Club will be selling hanging baskets in many colors and varieties\, Thursday\, May 24 and Friday\, May 25th from 9am to 5pm\, in front of Lawley Genesee Insurance and Tonawanda Valley Federal Credit Union.
URL:https://wbtai.com/calendars/batavia-rotary-flags-flower-sale/
END:VEVENT
BEGIN:VEVENT
DTSTART;TZID=America/New_York:20180524T160000
DTEND;TZID=America/New_York:20180524T200000
DTSTAMP:20260419T164532
CREATED:20180521T202715Z
LAST-MODIFIED:20180521T202732Z
UID:9424-1527177600-1527192000@wbtai.com
SUMMARY:Cars 4 Classrooms
DESCRIPTION:Chrysler Cars 4 Classrooms will hold a fundraiser event\, Thursday\, May 24\, 4pm to 8pm at Alexander Elementary School. For each test drive of vehicles on site from Castilone Chrsyler Dodge Jeep Ram \, $10 will be donated to the PTA.
URL:https://wbtai.com/calendars/cars-4-classrooms/
END:VEVENT
BEGIN:VEVENT
DTSTART;TZID=America/New_York:20180524T180000
DTEND;TZID=America/New_York:20180524T220000
DTSTAMP:20260419T164532
CREATED:20180509T151004Z
LAST-MODIFIED:20180509T151058Z
UID:9137-1527184800-1527199200@wbtai.com
SUMMARY:Reel Discussions
DESCRIPTION:Come view the movie\, ” I Am Not Your Negro”‘ and join in discussion afterwards\, Thursday\, May 24th\, 6pm\, at the Richmond Memorial Library\, 19 Ross Street\, Batavia.
URL:https://wbtai.com/calendars/reel-discussions-5/
END:VEVENT
END:VCALENDAR