BEGIN:VCALENDAR
VERSION:2.0
PRODID:-//WBTA - ECPv6.14.0//NONSGML v1.0//EN
CALSCALE:GREGORIAN
METHOD:PUBLISH
X-WR-CALNAME:WBTA
X-ORIGINAL-URL:https://wbtai.com
X-WR-CALDESC:Events for WBTA
REFRESH-INTERVAL;VALUE=DURATION:PT1H
X-Robots-Tag:noindex
X-PUBLISHED-TTL:PT1H
BEGIN:VTIMEZONE
TZID:America/New_York
BEGIN:DAYLIGHT
TZOFFSETFROM:-0500
TZOFFSETTO:-0400
TZNAME:EDT
DTSTART:20180311T070000
END:DAYLIGHT
BEGIN:STANDARD
TZOFFSETFROM:-0400
TZOFFSETTO:-0500
TZNAME:EST
DTSTART:20181104T060000
END:STANDARD
END:VTIMEZONE
BEGIN:VEVENT
DTSTART;TZID=America/New_York:20180529T120000
DTEND;TZID=America/New_York:20180529T130000
DTSTAMP:20260419T132907
CREATED:20180521T150522Z
LAST-MODIFIED:20180521T150537Z
UID:9405-1527595200-1527598800@wbtai.com
SUMMARY:NAFRE Meeting
DESCRIPTION:National Active and Retired Federal Employees will hold their monthly luncheon meeting at T. F. Brown’s\, Batavia\, at noon\, on Tuesday\, May 29th. ( more information\, call 591-1878)
URL:https://wbtai.com/calendars/nafre-meeting/
END:VEVENT
END:VCALENDAR