BEGIN:VCALENDAR
VERSION:2.0
PRODID:-//WBTA - ECPv6.14.0//NONSGML v1.0//EN
CALSCALE:GREGORIAN
METHOD:PUBLISH
X-WR-CALNAME:WBTA
X-ORIGINAL-URL:https://wbtai.com
X-WR-CALDESC:Events for WBTA
REFRESH-INTERVAL;VALUE=DURATION:PT1H
X-Robots-Tag:noindex
X-PUBLISHED-TTL:PT1H
BEGIN:VTIMEZONE
TZID:America/New_York
BEGIN:DAYLIGHT
TZOFFSETFROM:-0500
TZOFFSETTO:-0400
TZNAME:EDT
DTSTART:20180311T070000
END:DAYLIGHT
BEGIN:STANDARD
TZOFFSETFROM:-0400
TZOFFSETTO:-0500
TZNAME:EST
DTSTART:20181104T060000
END:STANDARD
END:VTIMEZONE
BEGIN:VEVENT
DTSTART;TZID=America/New_York:20180607T090000
DTEND;TZID=America/New_York:20180607T190000
DTSTAMP:20260419T132938
CREATED:20180601T191729Z
LAST-MODIFIED:20180601T191742Z
UID:9644-1528362000-1528398000@wbtai.com
SUMMARY:Book Sale
DESCRIPTION:Friends of the Richmond Memorial Library\, 19 Ross Street\, Batavia\, will host their monthly book sale\, Thursday\, June 7\, 9am to 7pm.   A large selection of mysteries\, science fiction\, large prints\, cookbooks\, biographies\, novels and children’s books will be available.
URL:https://wbtai.com/calendars/book-sale-4/
END:VEVENT
END:VCALENDAR