BEGIN:VCALENDAR
VERSION:2.0
PRODID:-//WBTA - ECPv6.14.0//NONSGML v1.0//EN
CALSCALE:GREGORIAN
METHOD:PUBLISH
X-ORIGINAL-URL:https://wbtai.com
X-WR-CALDESC:Events for WBTA
REFRESH-INTERVAL;VALUE=DURATION:PT1H
X-Robots-Tag:noindex
X-PUBLISHED-TTL:PT1H
BEGIN:VTIMEZONE
TZID:America/New_York
BEGIN:DAYLIGHT
TZOFFSETFROM:-0500
TZOFFSETTO:-0400
TZNAME:EDT
DTSTART:20180311T070000
END:DAYLIGHT
BEGIN:STANDARD
TZOFFSETFROM:-0400
TZOFFSETTO:-0500
TZNAME:EST
DTSTART:20181104T060000
END:STANDARD
END:VTIMEZONE
BEGIN:VEVENT
DTSTART;TZID=America/New_York:20180612T090000
DTEND;TZID=America/New_York:20180614T180000
DTSTAMP:20260419T133239
CREATED:20180410T191120Z
LAST-MODIFIED:20180410T191130Z
UID:8411-1528794000-1528999200@wbtai.com
SUMMARY:Master Food Preserver Training
DESCRIPTION:Cornell Cooperative Extension will offer a three day Master Food Preserver workshop June 12 to 14 at Camp Wyomoco\, Varysburg. Sessions will run from 8:30am to 4:30pm each day. For more information and registration contact Lisa at 585-786-2251 ext. 123.
URL:https://wbtai.com/calendars/master-food-preserver-training/
END:VEVENT
BEGIN:VEVENT
DTSTART;TZID=America/New_York:20180614T190000
DTEND;TZID=America/New_York:20180614T200000
DTSTAMP:20260419T133239
CREATED:20180604T153216Z
LAST-MODIFIED:20180604T153315Z
UID:9722-1529002800-1529006400@wbtai.com
SUMMARY:Poetry
DESCRIPTION:Go Art!\, 201 East Main Street\, Batavia\, will feature Stephen Lewandowski\, in a poetry night Thursday\, June 14\, 7pm. Bring your own work or a work of your favorite poet to the event.
URL:https://wbtai.com/calendars/poetry/
LOCATION:Go Art! 201 E Main St.\, Batavia\, NY
END:VEVENT
END:VCALENDAR