BEGIN:VCALENDAR
VERSION:2.0
PRODID:-//WBTA - ECPv6.14.0//NONSGML v1.0//EN
CALSCALE:GREGORIAN
METHOD:PUBLISH
X-WR-CALNAME:WBTA
X-ORIGINAL-URL:https://wbtai.com
X-WR-CALDESC:Events for WBTA
REFRESH-INTERVAL;VALUE=DURATION:PT1H
X-Robots-Tag:noindex
X-PUBLISHED-TTL:PT1H
BEGIN:VTIMEZONE
TZID:America/New_York
BEGIN:DAYLIGHT
TZOFFSETFROM:-0500
TZOFFSETTO:-0400
TZNAME:EDT
DTSTART:20180311T070000
END:DAYLIGHT
BEGIN:STANDARD
TZOFFSETFROM:-0400
TZOFFSETTO:-0500
TZNAME:EST
DTSTART:20181104T060000
END:STANDARD
END:VTIMEZONE
BEGIN:VEVENT
DTSTART;TZID=America/New_York:20180618T110000
DTEND;TZID=America/New_York:20180618T190000
DTSTAMP:20260419T102531
CREATED:20180521T144746Z
LAST-MODIFIED:20180521T144804Z
UID:9395-1529319600-1529348400@wbtai.com
SUMMARY:Notre Dame Golf
DESCRIPTION:Notre Dame annual Golf Tournament\, Monday\, June 18\, 11am\, Stafford Country Club. For more information and registration call 343-2783.
URL:https://wbtai.com/calendars/notre-dame-golf/
END:VEVENT
BEGIN:VEVENT
DTSTART;TZID=America/New_York:20180618T170000
DTEND;TZID=America/New_York:20180618T190000
DTSTAMP:20260419T102531
CREATED:20180604T124352Z
LAST-MODIFIED:20180604T124455Z
UID:9695-1529341200-1529348400@wbtai.com
SUMMARY:Crossroads House Training
DESCRIPTION:Resident Care Volunteer Orientation for Crossroads House will be held Monday\, June 18\, 5pm to 7pm at the First Presbyterian Church Hall. Learn more about Crossroads House; there is no obligation if you find it’s not a fit for you to volunteer. Call 343-3892 to RSVP.
URL:https://wbtai.com/calendars/crossroads-house-training/
END:VEVENT
BEGIN:VEVENT
DTSTART;TZID=America/New_York:20180618T190000
DTEND;TZID=America/New_York:20180618T223000
DTSTAMP:20260419T102531
CREATED:20180605T152202Z
LAST-MODIFIED:20180605T152221Z
UID:9807-1529348400-1529361000@wbtai.com
SUMMARY:Muckdogs
DESCRIPTION:The Muckdogs will play their home opener Monday\, June 18th in Dwyer Stadium\, Batavia\, at 7:05pm. Listen to the Muckdog home games on WBTA 1490 am and 100.1 fm.
URL:https://wbtai.com/calendars/muckdogs/
END:VEVENT
END:VCALENDAR