BEGIN:VCALENDAR
VERSION:2.0
PRODID:-//WBTA - ECPv6.14.0//NONSGML v1.0//EN
CALSCALE:GREGORIAN
METHOD:PUBLISH
X-WR-CALNAME:WBTA
X-ORIGINAL-URL:https://wbtai.com
X-WR-CALDESC:Events for WBTA
REFRESH-INTERVAL;VALUE=DURATION:PT1H
X-Robots-Tag:noindex
X-PUBLISHED-TTL:PT1H
BEGIN:VTIMEZONE
TZID:America/New_York
BEGIN:DAYLIGHT
TZOFFSETFROM:-0500
TZOFFSETTO:-0400
TZNAME:EDT
DTSTART:20180311T070000
END:DAYLIGHT
BEGIN:STANDARD
TZOFFSETFROM:-0400
TZOFFSETTO:-0500
TZNAME:EST
DTSTART:20181104T060000
END:STANDARD
END:VTIMEZONE
BEGIN:VEVENT
DTSTART;TZID=America/New_York:20180620T190000
DTEND;TZID=America/New_York:20180620T223000
DTSTAMP:20260419T132937
CREATED:20180605T153041Z
LAST-MODIFIED:20180605T153103Z
UID:9811-1529521200-1529533800@wbtai.com
SUMMARY:Muckdogs Baseball
DESCRIPTION:Muckdogs play West Virginia Black Bears \, Wednesday\, June 20\, 7pm. at Dwyer Stadium. Tickets available at the box office or online.  Listen to the game on WBTA 1490 am or 100.1 fm.
URL:https://wbtai.com/calendars/muckdogs-baseball-2/
END:VEVENT
END:VCALENDAR