BEGIN:VCALENDAR
VERSION:2.0
PRODID:-//WBTA - ECPv6.14.0//NONSGML v1.0//EN
CALSCALE:GREGORIAN
METHOD:PUBLISH
X-ORIGINAL-URL:https://wbtai.com
X-WR-CALDESC:Events for WBTA
REFRESH-INTERVAL;VALUE=DURATION:PT1H
X-Robots-Tag:noindex
X-PUBLISHED-TTL:PT1H
BEGIN:VTIMEZONE
TZID:America/New_York
BEGIN:DAYLIGHT
TZOFFSETFROM:-0500
TZOFFSETTO:-0400
TZNAME:EDT
DTSTART:20190310T070000
END:DAYLIGHT
BEGIN:STANDARD
TZOFFSETFROM:-0400
TZOFFSETTO:-0500
TZNAME:EST
DTSTART:20191103T060000
END:STANDARD
END:VTIMEZONE
BEGIN:VEVENT
DTSTART;TZID=America/New_York:20190606T163000
DTEND;TZID=America/New_York:20190606T200000
DTSTAMP:20260420T151832
CREATED:20190510T134451Z
LAST-MODIFIED:20190510T134508Z
UID:16227-1559838600-1559851200@wbtai.com
SUMMARY:Dinner Dance
DESCRIPTION:Office for the Aging hosts\, Peppermint Twist\, Dinner Dance\, Thursday\, June 6\, 4:30pm\, Ascension Parish Center\, 17 Sumner Street\, Batavia. (more information call 343-1611)
URL:https://wbtai.com/calendars/dinner-dance-3/
END:VEVENT
BEGIN:VEVENT
DTSTART;TZID=America/New_York:20190606T190000
DTEND;TZID=America/New_York:20190606T200000
DTSTAMP:20260420T151832
CREATED:20190530T182452Z
LAST-MODIFIED:20190530T182505Z
UID:16605-1559847600-1559851200@wbtai.com
SUMMARY:Old Hippies at HLOM
DESCRIPTION:Music night at the Holland Land Office Museum with the Old Hippies\, an acoustic group playing favorites of the 50’s\, 60’s\, and 70’s on Thursday\, June 6th\, 7pm. Tickets available at the door.
URL:https://wbtai.com/calendars/old-hippies-at-hlom/
END:VEVENT
END:VCALENDAR