BEGIN:VCALENDAR
VERSION:2.0
PRODID:-//WBTA - ECPv6.14.0//NONSGML v1.0//EN
CALSCALE:GREGORIAN
METHOD:PUBLISH
X-ORIGINAL-URL:https://wbtai.com
X-WR-CALDESC:Events for WBTA
REFRESH-INTERVAL;VALUE=DURATION:PT1H
X-Robots-Tag:noindex
X-PUBLISHED-TTL:PT1H
BEGIN:VTIMEZONE
TZID:America/New_York
BEGIN:DAYLIGHT
TZOFFSETFROM:-0500
TZOFFSETTO:-0400
TZNAME:EDT
DTSTART:20190310T070000
END:DAYLIGHT
BEGIN:STANDARD
TZOFFSETFROM:-0400
TZOFFSETTO:-0500
TZNAME:EST
DTSTART:20191103T060000
END:STANDARD
END:VTIMEZONE
BEGIN:VEVENT
DTSTART;TZID=America/New_York:20191011T190000
DTEND;TZID=America/New_York:20191011T203000
DTSTAMP:20260420T070947
CREATED:20190826T161704Z
LAST-MODIFIED:20190826T161731Z
UID:18165-1570820400-1570825800@wbtai.com
SUMMARY:West Side Ghost Walks
DESCRIPTION:Holland Land Office Museum will host three West Side Ghost walks with Connie Boyd\, Friday\, October 11\, 18\, and 25th\, 7pm. Tours are limited to 25 people per 1.5 hour walk. For more information and registration call 343-4727.
URL:https://wbtai.com/calendars/west-side-ghost-walks/
END:VEVENT
END:VCALENDAR