BEGIN:VCALENDAR
VERSION:2.0
PRODID:-//WBTA - ECPv6.14.0//NONSGML v1.0//EN
CALSCALE:GREGORIAN
METHOD:PUBLISH
X-ORIGINAL-URL:https://wbtai.com
X-WR-CALDESC:Events for WBTA
REFRESH-INTERVAL;VALUE=DURATION:PT1H
X-Robots-Tag:noindex
X-PUBLISHED-TTL:PT1H
BEGIN:VTIMEZONE
TZID:America/New_York
BEGIN:DAYLIGHT
TZOFFSETFROM:-0500
TZOFFSETTO:-0400
TZNAME:EDT
DTSTART:20190310T070000
END:DAYLIGHT
BEGIN:STANDARD
TZOFFSETFROM:-0400
TZOFFSETTO:-0500
TZNAME:EST
DTSTART:20191103T060000
END:STANDARD
END:VTIMEZONE
BEGIN:VEVENT
DTSTART;TZID=America/New_York:20191022T190000
DTEND;TZID=America/New_York:20191022T210000
DTSTAMP:20260425T222733
CREATED:20191010T140214Z
LAST-MODIFIED:20191010T140214Z
UID:18992-1571770800-1571778000@wbtai.com
SUMMARY:Speak Up Toastmasters Open House
DESCRIPTION:Enjoy some refreshments and find out what this club can do for your career.\nOctober 22\, 2019 7:00 pm\n190 Oak Street\, Batavia (Emmanuel Baptist Church\, rear entrance\, next to Bob Evans)\nWalk-ins are always welcome! Or Contact us now to reserve a seat! 585-993-0515 LeslieAGMarino@yahoo.com\nMeetings are open to anyone soon to be 18 and over
URL:https://wbtai.com/calendars/speak-up-toastmasters-open-house/
END:VEVENT
END:VCALENDAR