BEGIN:VCALENDAR
VERSION:2.0
PRODID:-//WBTA - ECPv6.14.0//NONSGML v1.0//EN
CALSCALE:GREGORIAN
METHOD:PUBLISH
X-ORIGINAL-URL:https://wbtai.com
X-WR-CALDESC:Events for WBTA
REFRESH-INTERVAL;VALUE=DURATION:PT1H
X-Robots-Tag:noindex
X-PUBLISHED-TTL:PT1H
BEGIN:VTIMEZONE
TZID:America/New_York
BEGIN:DAYLIGHT
TZOFFSETFROM:-0500
TZOFFSETTO:-0400
TZNAME:EDT
DTSTART:20190310T070000
END:DAYLIGHT
BEGIN:STANDARD
TZOFFSETFROM:-0400
TZOFFSETTO:-0500
TZNAME:EST
DTSTART:20191103T060000
END:STANDARD
END:VTIMEZONE
BEGIN:VEVENT
DTSTART;TZID=America/New_York:20191023T190000
DTEND;TZID=America/New_York:20191023T200000
DTSTAMP:20260425T204745
CREATED:20191017T190741Z
LAST-MODIFIED:20191017T190812Z
UID:19085-1571857200-1571860800@wbtai.com
SUMMARY:Stafford Historical
DESCRIPTION:Stafford Historical Society Fall Auction will be held Wednesday\, October 23\, 7pm\, in the Town Hall\, Rte. 237.
URL:https://wbtai.com/calendars/stafford-historical-2/
END:VEVENT
END:VCALENDAR