BEGIN:VCALENDAR
VERSION:2.0
PRODID:-//WBTA - ECPv6.14.0//NONSGML v1.0//EN
CALSCALE:GREGORIAN
METHOD:PUBLISH
X-ORIGINAL-URL:https://wbtai.com
X-WR-CALDESC:Events for WBTA
REFRESH-INTERVAL;VALUE=DURATION:PT1H
X-Robots-Tag:noindex
X-PUBLISHED-TTL:PT1H
BEGIN:VTIMEZONE
TZID:America/New_York
BEGIN:DAYLIGHT
TZOFFSETFROM:-0500
TZOFFSETTO:-0400
TZNAME:EDT
DTSTART:20190310T070000
END:DAYLIGHT
BEGIN:STANDARD
TZOFFSETFROM:-0400
TZOFFSETTO:-0500
TZNAME:EST
DTSTART:20191103T060000
END:STANDARD
END:VTIMEZONE
BEGIN:VEVENT
DTSTART;TZID=America/New_York:20191101T080000
DTEND;TZID=America/New_York:20191101T170000
DTSTAMP:20260425T112514
CREATED:20191017T191529Z
LAST-MODIFIED:20191017T193426Z
UID:19089-1572595200-1572627600@wbtai.com
SUMMARY:Wreath Sale
DESCRIPTION:Last Day to order your Holiday wreath to benefit Grand View Cemetery will be Friday\, November 1. Pick up will be on Sunday\, December 1 at the Cemetery Maintenance Garage 11am to 1pm. To order call Joyce at 343-0877.
URL:https://wbtai.com/calendars/wreath-sale-2/
END:VEVENT
BEGIN:VEVENT
DTSTART;TZID=America/New_York:20191101T110000
DTEND;TZID=America/New_York:20191101T233000
DTSTAMP:20260425T112514
CREATED:20191025T182655Z
LAST-MODIFIED:20191025T182719Z
UID:19227-1572606000-1572651000@wbtai.com
SUMMARY:HLOM Cannon Send Off
DESCRIPTION:Everyone is invited to attend the send off of the cannons at the Holland Land Office Museum\, 131 West Main Street\, Batavia\, on Friday\, November 1\, 11am. The cannons need to be restored and preserved for generations to come. (call 343-4727 for more information)
URL:https://wbtai.com/calendars/hlom-cannon-send-off/
END:VEVENT
END:VCALENDAR