BEGIN:VCALENDAR
VERSION:2.0
PRODID:-//WBTA - ECPv6.14.0//NONSGML v1.0//EN
CALSCALE:GREGORIAN
METHOD:PUBLISH
X-ORIGINAL-URL:https://wbtai.com
X-WR-CALDESC:Events for WBTA
REFRESH-INTERVAL;VALUE=DURATION:PT1H
X-Robots-Tag:noindex
X-PUBLISHED-TTL:PT1H
BEGIN:VTIMEZONE
TZID:America/New_York
BEGIN:DAYLIGHT
TZOFFSETFROM:-0500
TZOFFSETTO:-0400
TZNAME:EDT
DTSTART:20190310T070000
END:DAYLIGHT
BEGIN:STANDARD
TZOFFSETFROM:-0400
TZOFFSETTO:-0500
TZNAME:EST
DTSTART:20191103T060000
END:STANDARD
END:VTIMEZONE
BEGIN:VEVENT
DTSTART;TZID=America/New_York:20191109T120000
DTEND;TZID=America/New_York:20191109T190000
DTSTAMP:20260425T062739
CREATED:20191024T163413Z
LAST-MODIFIED:20191024T163435Z
UID:19204-1573300800-1573326000@wbtai.com
SUMMARY:Benefit for Olivia Maniace
DESCRIPTION:There will be a benefit for Olivia Maniace\, a young girl awaiting a lung transplant\, on Saturday\, November 9\, noon to 7pm\, at the VFW Beachhead\, Rt.98\, Alexander. (for more information call 585-356-1794)
URL:https://wbtai.com/calendars/benefit-for-olivia-maniace/
END:VEVENT
BEGIN:VEVENT
DTSTART;TZID=America/New_York:20191109T170000
DTEND;TZID=America/New_York:20191109T180000
DTSTAMP:20260425T062739
CREATED:20190923T174355Z
LAST-MODIFIED:20190923T174415Z
UID:18649-1573318800-1573322400@wbtai.com
SUMMARY:Swiss Steak Dinner
DESCRIPTION:The Salvation Army Women’s Auxiliary will host a swiss steak dinner\, Saturday\, November 9\, 5pm\, at 529 West Main Street\, Batavia. Dinner is by pre-Sale tickets only. Call 343-6284.
URL:https://wbtai.com/calendars/swiss-steak-dinner/
END:VEVENT
END:VCALENDAR