BEGIN:VCALENDAR
VERSION:2.0
PRODID:-//WBTA - ECPv6.14.0//NONSGML v1.0//EN
CALSCALE:GREGORIAN
METHOD:PUBLISH
X-ORIGINAL-URL:https://wbtai.com
X-WR-CALDESC:Events for WBTA
REFRESH-INTERVAL;VALUE=DURATION:PT1H
X-Robots-Tag:noindex
X-PUBLISHED-TTL:PT1H
BEGIN:VTIMEZONE
TZID:America/New_York
BEGIN:DAYLIGHT
TZOFFSETFROM:-0500
TZOFFSETTO:-0400
TZNAME:EDT
DTSTART:20190310T070000
END:DAYLIGHT
BEGIN:STANDARD
TZOFFSETFROM:-0400
TZOFFSETTO:-0500
TZNAME:EST
DTSTART:20191103T060000
END:STANDARD
END:VTIMEZONE
BEGIN:VEVENT
DTSTART;TZID=America/New_York:20191115T080000
DTEND;TZID=America/New_York:20191115T170000
DTSTAMP:20260422T080047
CREATED:20191105T162117Z
LAST-MODIFIED:20191105T162155Z
UID:19448-1573804800-1573837200@wbtai.com
SUMMARY:Sinatra Christmas
DESCRIPTION:Reservations are required by Friday\, November 15\, for the Office for the Aging tour on Tuesday\, December 3. Transportation\, lunch\, and show – “Sinatra Christmas – My Way” at Salvatore’s Italian Gardens. Call 343-1611 to make reservations or more information.
URL:https://wbtai.com/calendars/sinatra-christmas/
END:VEVENT
BEGIN:VEVENT
DTSTART;TZID=America/New_York:20191115T190000
DTEND;TZID=America/New_York:20191115T203000
DTSTAMP:20260422T080047
CREATED:20191113T140440Z
LAST-MODIFIED:20191113T140440Z
UID:19592-1573844400-1573849800@wbtai.com
SUMMARY:Wall of Prayer at Pavilion Baptist Church
DESCRIPTION:LADIES\, COLLEGE AND TEEN GIRLS\, Do you believe our prayers matter?….You are invited to attend this ONE time 2 County (Genesee/Wyoming) event to help us build a Wall of Prayer for your school dist.. This includes 13 school dist. and GCC too. \nDATE: This Fri. Nov.15th\nTIME: 7:00 – 8:30\nPLACE: Pavilion Baptist Church \nFor more information call 591-3422 \nDescription: Participants will be given a building block(cardboard) when they arrive\, on the block will be a scripture to read and insert their school name in the verse. Then they will set the block down on a prepared foundation. Little by little participants will see the wall get bigger and bigger.We want to see all 13 school districts represented. Will you join us? We will also have 2 maps that each time a school dist is prayed for a pin will be applied and at the end we can see exactly where our prayers had coverage and who did not.
URL:https://wbtai.com/calendars/wall-of-prayer-at-pavilion-baptist-church/
END:VEVENT
END:VCALENDAR