BEGIN:VCALENDAR
VERSION:2.0
PRODID:-//WBTA - ECPv6.14.0//NONSGML v1.0//EN
CALSCALE:GREGORIAN
METHOD:PUBLISH
X-ORIGINAL-URL:https://wbtai.com
X-WR-CALDESC:Events for WBTA
REFRESH-INTERVAL;VALUE=DURATION:PT1H
X-Robots-Tag:noindex
X-PUBLISHED-TTL:PT1H
BEGIN:VTIMEZONE
TZID:America/New_York
BEGIN:DAYLIGHT
TZOFFSETFROM:-0500
TZOFFSETTO:-0400
TZNAME:EDT
DTSTART:20190310T070000
END:DAYLIGHT
BEGIN:STANDARD
TZOFFSETFROM:-0400
TZOFFSETTO:-0500
TZNAME:EST
DTSTART:20191103T060000
END:STANDARD
END:VTIMEZONE
BEGIN:VEVENT
DTSTART;TZID=America/New_York:20191117T090000
DTEND;TZID=America/New_York:20191117T110000
DTSTAMP:20260422T002409
CREATED:20191104T184327Z
LAST-MODIFIED:20191104T184352Z
UID:19408-1573981200-1573988400@wbtai.com
SUMMARY:National Hike Day Walk
DESCRIPTION:The ACORNS will host a family fun walk at the Genesee County Park Nature Center\, 9am to 11am\, on Sunday\, November 17\, for National Hike Day. To Register call 344-1122.
URL:https://wbtai.com/calendars/national-hike-day-walk/
END:VEVENT
END:VCALENDAR