BEGIN:VCALENDAR
VERSION:2.0
PRODID:-//WBTA - ECPv6.14.0//NONSGML v1.0//EN
CALSCALE:GREGORIAN
METHOD:PUBLISH
X-ORIGINAL-URL:https://wbtai.com
X-WR-CALDESC:Events for WBTA
REFRESH-INTERVAL;VALUE=DURATION:PT1H
X-Robots-Tag:noindex
X-PUBLISHED-TTL:PT1H
BEGIN:VTIMEZONE
TZID:America/New_York
BEGIN:DAYLIGHT
TZOFFSETFROM:-0500
TZOFFSETTO:-0400
TZNAME:EDT
DTSTART:20190310T070000
END:DAYLIGHT
BEGIN:STANDARD
TZOFFSETFROM:-0400
TZOFFSETTO:-0500
TZNAME:EST
DTSTART:20191103T060000
END:STANDARD
END:VTIMEZONE
BEGIN:VEVENT
DTSTART;TZID=America/New_York:20191120T110000
DTEND;TZID=America/New_York:20191120T160000
DTSTAMP:20260422T080047
CREATED:20191025T183937Z
LAST-MODIFIED:20191025T184018Z
UID:19233-1574247600-1574265600@wbtai.com
SUMMARY:Blood Drive
DESCRIPTION:There will be an American Red Cross Blood Drive\, Wednesday\, November 20\, 11am to 4pm at the Bethany Town Hall. Windsong will be there doing free screenings.
URL:https://wbtai.com/calendars/blood-drive-17/
END:VEVENT
BEGIN:VEVENT
DTSTART;TZID=America/New_York:20191120T110000
DTEND;TZID=America/New_York:20191120T173000
DTSTAMP:20260422T080047
CREATED:20191107T170321Z
LAST-MODIFIED:20191107T170340Z
UID:19514-1574247600-1574271000@wbtai.com
SUMMARY:Day of Sharing
DESCRIPTION:Share the warmth – Donate new or gently used coats\, hats\, gloves\, mittens\, Scarves\, thermal socks\, infant car seat covers\, during the United Way Day of Sharing\, Wednesday\, November 20th. Bring your items to the United Way Office Parking Lot\, 29 Liberty Street\, Batavia\, or Liberty Pumps Parking Lot\, Bergen\, or to the Boy Scout Office\, Oakfield\, between 11am and 1pm or 3:30pm and 5:30pm.  If you can not make it at these times\, Just drop off your items at WBTA Studios\, 113 Main Street\, Batavia\, during regular business hours and we will get them to the United Way. Thank you for caring about your neighbors in Genesee County! (for more information email tammy.hathaway@uwrochester.org )
URL:https://wbtai.com/calendars/day-of-sharing/
END:VEVENT
END:VCALENDAR