BEGIN:VCALENDAR
VERSION:2.0
PRODID:-//WBTA - ECPv6.14.0//NONSGML v1.0//EN
CALSCALE:GREGORIAN
METHOD:PUBLISH
X-ORIGINAL-URL:https://wbtai.com
X-WR-CALDESC:Events for WBTA
REFRESH-INTERVAL;VALUE=DURATION:PT1H
X-Robots-Tag:noindex
X-PUBLISHED-TTL:PT1H
BEGIN:VTIMEZONE
TZID:America/New_York
BEGIN:DAYLIGHT
TZOFFSETFROM:-0500
TZOFFSETTO:-0400
TZNAME:EDT
DTSTART:20200308T070000
END:DAYLIGHT
BEGIN:STANDARD
TZOFFSETFROM:-0400
TZOFFSETTO:-0500
TZNAME:EST
DTSTART:20201101T060000
END:STANDARD
END:VTIMEZONE
BEGIN:VEVENT
DTSTART;TZID=America/New_York:20200115T173000
DTEND;TZID=America/New_York:20200115T190000
DTSTAMP:20260425T191312
CREATED:20200108T170151Z
LAST-MODIFIED:20200108T170348Z
UID:20279-1579109400-1579114800@wbtai.com
SUMMARY:Slime\, Cocoa & Cookies
DESCRIPTION:Join the Girl Scouts\, Wednesday\, January 15\, 5:30pm to 7pm at the Batavia Service Center\, 5 Jackson Street\, Batavia. Slime\, cocoa\, and cookies will be featured at the event.
URL:https://wbtai.com/calendars/slime-cocoa-cookies/
END:VEVENT
END:VCALENDAR