BEGIN:VCALENDAR
VERSION:2.0
PRODID:-//WBTA - ECPv6.14.0//NONSGML v1.0//EN
CALSCALE:GREGORIAN
METHOD:PUBLISH
X-ORIGINAL-URL:https://wbtai.com
X-WR-CALDESC:Events for WBTA
REFRESH-INTERVAL;VALUE=DURATION:PT1H
X-Robots-Tag:noindex
X-PUBLISHED-TTL:PT1H
BEGIN:VTIMEZONE
TZID:America/New_York
BEGIN:DAYLIGHT
TZOFFSETFROM:-0500
TZOFFSETTO:-0400
TZNAME:EDT
DTSTART:20200308T070000
END:DAYLIGHT
BEGIN:STANDARD
TZOFFSETFROM:-0400
TZOFFSETTO:-0500
TZNAME:EST
DTSTART:20201101T060000
END:STANDARD
END:VTIMEZONE
BEGIN:VEVENT
DTSTART;TZID=America/New_York:20200215T100000
DTEND;TZID=America/New_York:20200215T120000
DTSTAMP:20260425T160232
CREATED:20200207T192538Z
LAST-MODIFIED:20200207T192554Z
UID:20839-1581760800-1581768000@wbtai.com
SUMMARY:Family Matinee
DESCRIPTION:Richmond Memorial Library\, 19 Ross Street\, Batavia\, will host a family matinee movie Saturday\, February 15th\, 10am. The 2019 version of ” The Lion King” will be shown.
URL:https://wbtai.com/calendars/family-matinee/
END:VEVENT
BEGIN:VEVENT
DTSTART;TZID=America/New_York:20200215T183000
DTEND;TZID=America/New_York:20200215T220000
DTSTAMP:20260425T160232
CREATED:20200121T142353Z
LAST-MODIFIED:20200121T142418Z
UID:20438-1581791400-1581804000@wbtai.com
SUMMARY:Valentine's Dinner & Dance
DESCRIPTION:The Alexander Fire Department is hosting their annual Valentine’s Steak Dinner and Dance\, Saturday\, February 15\, starting at 6:30pm\, at the Recreation Hall\, Alexander Road\, Alexander. Red Creek will play. Tickets are limited and must be ordered in advance by calling Heidi at 813-6598.
URL:https://wbtai.com/calendars/valentines-dinner-dance/
END:VEVENT
END:VCALENDAR