BEGIN:VCALENDAR
VERSION:2.0
PRODID:-//WBTA - ECPv6.14.0//NONSGML v1.0//EN
CALSCALE:GREGORIAN
METHOD:PUBLISH
X-ORIGINAL-URL:https://wbtai.com
X-WR-CALDESC:Events for WBTA
REFRESH-INTERVAL;VALUE=DURATION:PT1H
X-Robots-Tag:noindex
X-PUBLISHED-TTL:PT1H
BEGIN:VTIMEZONE
TZID:America/New_York
BEGIN:DAYLIGHT
TZOFFSETFROM:-0500
TZOFFSETTO:-0400
TZNAME:EDT
DTSTART:20200308T070000
END:DAYLIGHT
BEGIN:STANDARD
TZOFFSETFROM:-0400
TZOFFSETTO:-0500
TZNAME:EST
DTSTART:20201101T060000
END:STANDARD
END:VTIMEZONE
BEGIN:VEVENT
DTSTART;TZID=America/New_York:20200217T080000
DTEND;TZID=America/New_York:20200223T170000
DTSTAMP:20260425T160207
CREATED:20200130T175124Z
LAST-MODIFIED:20200130T175211Z
UID:20602-1581926400-1582477200@wbtai.com
SUMMARY:FFA Week
DESCRIPTION:FFA Week (Future Farmers of America) is February 17 through 23. FFA members are the innovators and leaders of tomorrow through hands on agricultural learning for more than 300 careers!
URL:https://wbtai.com/calendars/ffa-week/
END:VEVENT
END:VCALENDAR