BEGIN:VCALENDAR
VERSION:2.0
PRODID:-//WBTA - ECPv6.14.0//NONSGML v1.0//EN
CALSCALE:GREGORIAN
METHOD:PUBLISH
X-ORIGINAL-URL:https://wbtai.com
X-WR-CALDESC:Events for WBTA
REFRESH-INTERVAL;VALUE=DURATION:PT1H
X-Robots-Tag:noindex
X-PUBLISHED-TTL:PT1H
BEGIN:VTIMEZONE
TZID:America/New_York
BEGIN:DAYLIGHT
TZOFFSETFROM:-0500
TZOFFSETTO:-0400
TZNAME:EDT
DTSTART:20200308T070000
END:DAYLIGHT
BEGIN:STANDARD
TZOFFSETFROM:-0400
TZOFFSETTO:-0500
TZNAME:EST
DTSTART:20201101T060000
END:STANDARD
END:VTIMEZONE
BEGIN:VEVENT
DTSTART;TZID=America/New_York:20200217T080000
DTEND;TZID=America/New_York:20200223T170000
DTSTAMP:20260425T160223
CREATED:20200130T175124Z
LAST-MODIFIED:20200130T175211Z
UID:20602-1581926400-1582477200@wbtai.com
SUMMARY:FFA Week
DESCRIPTION:FFA Week (Future Farmers of America) is February 17 through 23. FFA members are the innovators and leaders of tomorrow through hands on agricultural learning for more than 300 careers!
URL:https://wbtai.com/calendars/ffa-week/
END:VEVENT
BEGIN:VEVENT
DTSTART;TZID=America/New_York:20200220T123000
DTEND;TZID=America/New_York:20200223T220000
DTSTAMP:20260425T160223
CREATED:20191230T143038Z
LAST-MODIFIED:20191230T143057Z
UID:20139-1582201800-1582495200@wbtai.com
SUMMARY:Doubt: A Parable
DESCRIPTION:“Doubt: A Parable” by John Patrick Shanley\, will be performed in the Stuart Steiner Theatre\, Batavia GCC Campus\, Thursday\, February 20\, 12:30pm\, and on Friday and Saturday\, February 21\, and 22 at 7:30pm and on Sunday\, February 23 at 2pm. Tickets available at the box office.
URL:https://wbtai.com/calendars/doubt-a-parable/
END:VEVENT
BEGIN:VEVENT
DTSTART;TZID=America/New_York:20200221T160000
DTEND;TZID=America/New_York:20200223T220000
DTSTAMP:20260425T160223
CREATED:20200212T181514Z
LAST-MODIFIED:20200212T181544Z
UID:20926-1582300800-1582495200@wbtai.com
SUMMARY:Ron Riggi Memorial
DESCRIPTION:18h annual Ron Riggi Memorial 4 person Handicap Tournament\, at the LeRoy Legion Lanes\, Friday\, February 21 at 6:30pm; Saturday\, February 22 at noon and 4pm and on Sunday\, February 23\, at noon and 4pm.  Call 768-8597 for more information and registration.
URL:https://wbtai.com/calendars/ron-riggi-memorial/
END:VEVENT
BEGIN:VEVENT
DTSTART;TZID=America/New_York:20200221T180000
DTEND;TZID=America/New_York:20200223T210000
DTSTAMP:20260425T160223
CREATED:20200116T145759Z
LAST-MODIFIED:20200116T145915Z
UID:20391-1582308000-1582491600@wbtai.com
SUMMARY:Crossroads House Bowling
DESCRIPTION:24th annual Betty Ellison Memorial Strike Out for Crossroads House Bowling Event will be held Friday\, Saturday\, and Sunday\, February 21\, 22\, & 23\, at the Mancuso Bowling Center\, Batavia. Call Cindy at 585-993-0584 for team registration and more information.
URL:https://wbtai.com/calendars/crossroads-house-bowling/
END:VEVENT
END:VCALENDAR