BEGIN:VCALENDAR
VERSION:2.0
PRODID:-//WBTA - ECPv6.14.0//NONSGML v1.0//EN
CALSCALE:GREGORIAN
METHOD:PUBLISH
X-ORIGINAL-URL:https://wbtai.com
X-WR-CALDESC:Events for WBTA
REFRESH-INTERVAL;VALUE=DURATION:PT1H
X-Robots-Tag:noindex
X-PUBLISHED-TTL:PT1H
BEGIN:VTIMEZONE
TZID:America/New_York
BEGIN:DAYLIGHT
TZOFFSETFROM:-0500
TZOFFSETTO:-0400
TZNAME:EDT
DTSTART:20200308T070000
END:DAYLIGHT
BEGIN:STANDARD
TZOFFSETFROM:-0400
TZOFFSETTO:-0500
TZNAME:EST
DTSTART:20201101T060000
END:STANDARD
END:VTIMEZONE
BEGIN:VEVENT
DTSTART;TZID=America/New_York:20200225T190000
DTEND;TZID=America/New_York:20200225T200000
DTSTAMP:20260425T160234
CREATED:20200213T145422Z
LAST-MODIFIED:20200213T145521Z
UID:20936-1582657200-1582660800@wbtai.com
SUMMARY:Speak Up Toastmasters
DESCRIPTION:Speak Up Toastmasters\, an educational club specializing in teaching leadership and presentation skills\, will meet Tuesday\, February 25\, 7pm\, at the Emmanuel Baptist Church\, 190 Oak Street\, Batavia. RSVP to 993-0515.
URL:https://wbtai.com/calendars/speak-up-toastmasters-2/
END:VEVENT
END:VCALENDAR