BEGIN:VCALENDAR
VERSION:2.0
PRODID:-//WBTA - ECPv6.14.0//NONSGML v1.0//EN
CALSCALE:GREGORIAN
METHOD:PUBLISH
X-WR-CALNAME:WBTA
X-ORIGINAL-URL:https://wbtai.com
X-WR-CALDESC:Events for WBTA
REFRESH-INTERVAL;VALUE=DURATION:PT1H
X-Robots-Tag:noindex
X-PUBLISHED-TTL:PT1H
BEGIN:VTIMEZONE
TZID:America/New_York
BEGIN:DAYLIGHT
TZOFFSETFROM:-0500
TZOFFSETTO:-0400
TZNAME:EDT
DTSTART:20200308T070000
END:DAYLIGHT
BEGIN:STANDARD
TZOFFSETFROM:-0400
TZOFFSETTO:-0500
TZNAME:EST
DTSTART:20201101T060000
END:STANDARD
END:VTIMEZONE
BEGIN:VEVENT
DTSTART;TZID=America/New_York:20200407T180000
DTEND;TZID=America/New_York:20200407T200000
DTSTAMP:20260425T190940
CREATED:20200303T150439Z
LAST-MODIFIED:20200303T150452Z
UID:21137-1586282400-1586289600@wbtai.com
SUMMARY:Catch the Gardening Bug
DESCRIPTION:Genesee County Master Gardeners will host a program on the flowers and gardens in Canada\, Tuesday\, April 7\, 6pm\, at the Cornell Cooperative extension\, 420 East Main Street\, Batavia. Pre-registration is required by April 1. Call 343-3040.
URL:https://wbtai.com/calendars/catch-the-gardening-bug/
END:VEVENT
END:VCALENDAR