BEGIN:VCALENDAR
VERSION:2.0
PRODID:-//WBTA - ECPv6.14.0//NONSGML v1.0//EN
CALSCALE:GREGORIAN
METHOD:PUBLISH
X-ORIGINAL-URL:https://wbtai.com
X-WR-CALDESC:Events for WBTA
REFRESH-INTERVAL;VALUE=DURATION:PT1H
X-Robots-Tag:noindex
X-PUBLISHED-TTL:PT1H
BEGIN:VTIMEZONE
TZID:America/New_York
BEGIN:DAYLIGHT
TZOFFSETFROM:-0500
TZOFFSETTO:-0400
TZNAME:EDT
DTSTART:20200308T070000
END:DAYLIGHT
BEGIN:STANDARD
TZOFFSETFROM:-0400
TZOFFSETTO:-0500
TZNAME:EST
DTSTART:20201101T060000
END:STANDARD
END:VTIMEZONE
BEGIN:VEVENT
DTSTART;TZID=America/New_York:20200409T113000
DTEND;TZID=America/New_York:20200409T130000
DTSTAMP:20260425T191120
CREATED:20200211T153036Z
LAST-MODIFIED:20200313T174017Z
UID:20897-1586431800-1586437200@wbtai.com
SUMMARY:Job Fair CANCELLED
DESCRIPTION:CANCELLED There will be a job fair on the Genesee Community College Batavia Campus\, Thursday\, April 9\, 11:30 to 1:30pm.
URL:https://wbtai.com/calendars/job-fair-3/
END:VEVENT
END:VCALENDAR