BEGIN:VCALENDAR
VERSION:2.0
PRODID:-//WBTA - ECPv6.14.0//NONSGML v1.0//EN
CALSCALE:GREGORIAN
METHOD:PUBLISH
X-WR-CALNAME:WBTA
X-ORIGINAL-URL:https://wbtai.com
X-WR-CALDESC:Events for WBTA
REFRESH-INTERVAL;VALUE=DURATION:PT1H
X-Robots-Tag:noindex
X-PUBLISHED-TTL:PT1H
BEGIN:VTIMEZONE
TZID:America/New_York
BEGIN:DAYLIGHT
TZOFFSETFROM:-0500
TZOFFSETTO:-0400
TZNAME:EDT
DTSTART:20200308T070000
END:DAYLIGHT
BEGIN:STANDARD
TZOFFSETFROM:-0400
TZOFFSETTO:-0500
TZNAME:EST
DTSTART:20201101T060000
END:STANDARD
END:VTIMEZONE
BEGIN:VEVENT
DTSTART;TZID=America/New_York:20200426T080000
DTEND;TZID=America/New_York:20200426T120000
DTSTAMP:20260425T191014
CREATED:20200121T151824Z
LAST-MODIFIED:20200121T151843Z
UID:20446-1587888000-1587902400@wbtai.com
SUMMARY:Carnival Breakfast
DESCRIPTION:The Alexander Fire Department will host an all you can eat Carnival themed buffet style breakfast on Sunday\, April 26\, 8am to noon\, at the Rec Hall. Children under age 5 are free.
URL:https://wbtai.com/calendars/carnival-breakfast/
END:VEVENT
END:VCALENDAR