BEGIN:VCALENDAR
VERSION:2.0
PRODID:-//WBTA - ECPv6.14.0//NONSGML v1.0//EN
CALSCALE:GREGORIAN
METHOD:PUBLISH
X-WR-CALNAME:WBTA
X-ORIGINAL-URL:https://wbtai.com
X-WR-CALDESC:Events for WBTA
REFRESH-INTERVAL;VALUE=DURATION:PT1H
X-Robots-Tag:noindex
X-PUBLISHED-TTL:PT1H
BEGIN:VTIMEZONE
TZID:America/New_York
BEGIN:DAYLIGHT
TZOFFSETFROM:-0500
TZOFFSETTO:-0400
TZNAME:EDT
DTSTART:20200308T070000
END:DAYLIGHT
BEGIN:STANDARD
TZOFFSETFROM:-0400
TZOFFSETTO:-0500
TZNAME:EST
DTSTART:20201101T060000
END:STANDARD
END:VTIMEZONE
BEGIN:VEVENT
DTSTART;TZID=America/New_York:20200604T120000
DTEND;TZID=America/New_York:20200604T130000
DTSTAMP:20260425T220901
CREATED:20200207T200057Z
LAST-MODIFIED:20200207T200335Z
UID:20855-1591272000-1591275600@wbtai.com
SUMMARY:Garden Talk Series
DESCRIPTION:Spotted Lantern Fly will be the topic for the next garden talk series from the Master Gardeners of Batavia. Learn to identify this invasive pest from Asia in this free talk Thursday\, June 4\, 12:15.  Bring your lunch.
URL:https://wbtai.com/calendars/garden-talk-series-9/
END:VEVENT
END:VCALENDAR