BEGIN:VCALENDAR
VERSION:2.0
PRODID:-//WBTA - ECPv6.14.0//NONSGML v1.0//EN
CALSCALE:GREGORIAN
METHOD:PUBLISH
X-WR-CALNAME:WBTA
X-ORIGINAL-URL:https://wbtai.com
X-WR-CALDESC:Events for WBTA
REFRESH-INTERVAL;VALUE=DURATION:PT1H
X-Robots-Tag:noindex
X-PUBLISHED-TTL:PT1H
BEGIN:VTIMEZONE
TZID:America/New_York
BEGIN:DAYLIGHT
TZOFFSETFROM:-0500
TZOFFSETTO:-0400
TZNAME:EDT
DTSTART:20200308T070000
END:DAYLIGHT
BEGIN:STANDARD
TZOFFSETFROM:-0400
TZOFFSETTO:-0500
TZNAME:EST
DTSTART:20201101T060000
END:STANDARD
END:VTIMEZONE
BEGIN:VEVENT
DTSTART;TZID=America/New_York:20200607T080000
DTEND;TZID=America/New_York:20200607T170000
DTSTAMP:20260425T220835
CREATED:20191231T163502Z
LAST-MODIFIED:20200427T140300Z
UID:20160-1591516800-1591549200@wbtai.com
SUMMARY:Cancelled Golf Tournament
DESCRIPTION:Cancelled for 2020 The Arc of Genesee Orleans will hold their annual Golf Tournament on Sunday\, June 7\, at Shelridge Country Club\, Medina. For more information contact Heidi at 585-589-5516 ext. 228.
URL:https://wbtai.com/calendars/golf-tournament/
END:VEVENT
END:VCALENDAR