BEGIN:VCALENDAR
VERSION:2.0
PRODID:-//WBTA - ECPv6.14.0//NONSGML v1.0//EN
CALSCALE:GREGORIAN
METHOD:PUBLISH
X-ORIGINAL-URL:https://wbtai.com
X-WR-CALDESC:Events for WBTA
REFRESH-INTERVAL;VALUE=DURATION:PT1H
X-Robots-Tag:noindex
X-PUBLISHED-TTL:PT1H
BEGIN:VTIMEZONE
TZID:America/New_York
BEGIN:DAYLIGHT
TZOFFSETFROM:-0500
TZOFFSETTO:-0400
TZNAME:EDT
DTSTART:20220313T070000
END:DAYLIGHT
BEGIN:STANDARD
TZOFFSETFROM:-0400
TZOFFSETTO:-0500
TZNAME:EST
DTSTART:20221106T060000
END:STANDARD
END:VTIMEZONE
BEGIN:VEVENT
DTSTART;TZID=America/New_York:20220824T190000
DTEND;TZID=America/New_York:20220824T200000
DTSTAMP:20260422T112018
CREATED:20220822T152826Z
LAST-MODIFIED:20220822T152832Z
UID:31444-1661367600-1661371200@wbtai.com
SUMMARY:Stafford Historical
DESCRIPTION:Stafford Historical Society presents the Byron’s Bicentennial history\, Wednesday\, August 24\, 7pm\, in the Stafford Town Hall.
URL:https://wbtai.com/calendars/stafford-historical-3/
END:VEVENT
END:VCALENDAR