BEGIN:VCALENDAR
VERSION:2.0
PRODID:-//WBTA - ECPv6.14.0//NONSGML v1.0//EN
CALSCALE:GREGORIAN
METHOD:PUBLISH
X-WR-CALNAME:WBTA
X-ORIGINAL-URL:https://wbtai.com
X-WR-CALDESC:Events for WBTA
REFRESH-INTERVAL;VALUE=DURATION:PT1H
X-Robots-Tag:noindex
X-PUBLISHED-TTL:PT1H
BEGIN:VTIMEZONE
TZID:America/New_York
BEGIN:DAYLIGHT
TZOFFSETFROM:-0500
TZOFFSETTO:-0400
TZNAME:EDT
DTSTART:20220313T070000
END:DAYLIGHT
BEGIN:STANDARD
TZOFFSETFROM:-0400
TZOFFSETTO:-0500
TZNAME:EST
DTSTART:20221106T060000
END:STANDARD
END:VTIMEZONE
BEGIN:VEVENT
DTSTART;TZID=America/New_York:20220826T160000
DTEND;TZID=America/New_York:20220826T200000
DTSTAMP:20260422T032618
CREATED:20220822T195835Z
LAST-MODIFIED:20220822T200000Z
UID:31459-1661529600-1661544000@wbtai.com
SUMMARY:Food truck Rodeo
DESCRIPTION:Genesee County Agricultural Society will host Food Truck Rodeo Friday\, August 26\, 4pm to 8pm on the County Fairgrounds\, Rt. 5\, Batavia.
URL:https://wbtai.com/calendars/food-truck-rodeo/
END:VEVENT
BEGIN:VEVENT
DTSTART;TZID=America/New_York:20220826T170000
DTEND;TZID=America/New_York:20220826T210000
DTSTAMP:20260422T032618
CREATED:20220802T181856Z
LAST-MODIFIED:20220802T181920Z
UID:31210-1661533200-1661547600@wbtai.com
SUMMARY:St. Jerome's Reunion
DESCRIPTION:Former employees of St. Jerome’s Hospital are invited to attend a social gathering\, Friday\, August 26\, 5pm to 9pm at T. F. Brown’s. Call Mike Rimmer at 356-5922 for mroe information.
URL:https://wbtai.com/calendars/st-jeromes-reunion/
END:VEVENT
BEGIN:VEVENT
DTSTART;TZID=America/New_York:20220826T190000
DTEND;TZID=America/New_York:20220826T200000
DTSTAMP:20260422T032618
CREATED:20220824T174149Z
LAST-MODIFIED:20220824T174154Z
UID:31499-1661540400-1661544000@wbtai.com
SUMMARY:Concert
DESCRIPTION:Batavia First Baptist Church\, 306 East Main Street\, Batavia\, will host the Alexander Firemen’s Band\, Friday\, August 26th\,  7pm\, in the parking lot\, inside if it rains.   Bring your lawn chairs.  Proceeds benefit the roof fund.
URL:https://wbtai.com/calendars/concert/
END:VEVENT
BEGIN:VEVENT
DTSTART;TZID=America/New_York:20220826T190000
DTEND;TZID=America/New_York:20220826T210000
DTSTAMP:20260422T032618
CREATED:20220608T165753Z
LAST-MODIFIED:20220608T165759Z
UID:30401-1661540400-1661547600@wbtai.com
SUMMARY:BID Concert Series
DESCRIPTION:Downtown Batavia Business Improvement District will close out this summer’s Jackson Square concert series by welcoming Mitty & the Followers to the stage\, 7pm\, Friday\, August 26th. Bring your lawn chairs.
URL:https://wbtai.com/calendars/bid-concert-series-5/
END:VEVENT
END:VCALENDAR