BEGIN:VCALENDAR
VERSION:2.0
PRODID:-//WBTA - ECPv6.14.0//NONSGML v1.0//EN
CALSCALE:GREGORIAN
METHOD:PUBLISH
X-WR-CALNAME:WBTA
X-ORIGINAL-URL:https://wbtai.com
X-WR-CALDESC:Events for WBTA
REFRESH-INTERVAL;VALUE=DURATION:PT1H
X-Robots-Tag:noindex
X-PUBLISHED-TTL:PT1H
BEGIN:VTIMEZONE
TZID:America/New_York
BEGIN:DAYLIGHT
TZOFFSETFROM:-0500
TZOFFSETTO:-0400
TZNAME:EDT
DTSTART:20220313T070000
END:DAYLIGHT
BEGIN:STANDARD
TZOFFSETFROM:-0400
TZOFFSETTO:-0500
TZNAME:EST
DTSTART:20221106T060000
END:STANDARD
END:VTIMEZONE
BEGIN:VEVENT
DTSTART;TZID=America/New_York:20220903T090000
DTEND;TZID=America/New_York:20220905T220000
DTSTAMP:20260421T123752
CREATED:20220607T143449Z
LAST-MODIFIED:20220607T143902Z
UID:30309-1662195600-1662415200@wbtai.com
SUMMARY:Oakfield Labor Daze
DESCRIPTION:Oakfield Betterment Committee will host Labor Daze in the village of Oakfield Saturday\, September 3\, thru Monday\, September 5th. The festival features a parade\, children’s activities\, music\, food\, 5K race\, Car Cruise\, arts & Crafts\, and fireworks!
URL:https://wbtai.com/calendars/oakfield-labor-daze-4/
END:VEVENT
END:VCALENDAR