BEGIN:VCALENDAR
VERSION:2.0
PRODID:-//WBTA - ECPv6.14.0//NONSGML v1.0//EN
CALSCALE:GREGORIAN
METHOD:PUBLISH
X-WR-CALNAME:WBTA
X-ORIGINAL-URL:https://wbtai.com
X-WR-CALDESC:Events for WBTA
REFRESH-INTERVAL;VALUE=DURATION:PT1H
X-Robots-Tag:noindex
X-PUBLISHED-TTL:PT1H
BEGIN:VTIMEZONE
TZID:America/New_York
BEGIN:DAYLIGHT
TZOFFSETFROM:-0500
TZOFFSETTO:-0400
TZNAME:EDT
DTSTART:20220313T070000
END:DAYLIGHT
BEGIN:STANDARD
TZOFFSETFROM:-0400
TZOFFSETTO:-0500
TZNAME:EST
DTSTART:20221106T060000
END:STANDARD
END:VTIMEZONE
BEGIN:VEVENT
DTSTART;TZID=America/New_York:20220908T130000
DTEND;TZID=America/New_York:20220908T160000
DTSTAMP:20260421T123553
CREATED:20220809T141651Z
LAST-MODIFIED:20220809T141705Z
UID:31302-1662642000-1662652800@wbtai.com
SUMMARY:Moving Beyond "White Fragility"
DESCRIPTION:The YWCA will host an interactive workshop with Nanette D. Massey \, ” Moving Beyond “White Fragility”: Honest and Effective Conversations About Race\, Thursday\, September 8\, 1pm to 4pm at GCC\, Batavia Campus. Call Millie at the YWCA for registration and more information. ( 343-5808 ext. 15)
URL:https://wbtai.com/calendars/moving-beyond-white-fragility/
END:VEVENT
END:VCALENDAR