BEGIN:VCALENDAR
VERSION:2.0
PRODID:-//WBTA - ECPv6.14.0//NONSGML v1.0//EN
CALSCALE:GREGORIAN
METHOD:PUBLISH
X-ORIGINAL-URL:https://wbtai.com
X-WR-CALDESC:Events for WBTA
REFRESH-INTERVAL;VALUE=DURATION:PT1H
X-Robots-Tag:noindex
X-PUBLISHED-TTL:PT1H
BEGIN:VTIMEZONE
TZID:America/New_York
BEGIN:DAYLIGHT
TZOFFSETFROM:-0500
TZOFFSETTO:-0400
TZNAME:EDT
DTSTART:20220313T070000
END:DAYLIGHT
BEGIN:STANDARD
TZOFFSETFROM:-0400
TZOFFSETTO:-0500
TZNAME:EST
DTSTART:20221106T060000
END:STANDARD
END:VTIMEZONE
BEGIN:VEVENT
DTSTART;TZID=America/New_York:20220910T100000
DTEND;TZID=America/New_York:20220910T160000
DTSTAMP:20260421T124233
CREATED:20220822T195553Z
LAST-MODIFIED:20220822T195608Z
UID:31457-1662804000-1662825600@wbtai.com
SUMMARY:Craft & Vendor Sale
DESCRIPTION:Outdoor Craft and Vendor Sale\, Saturday\, September 10\, 10am to 4pm\, 6181 Cook Road\, Byron.
URL:https://wbtai.com/calendars/craft-vendor-sale-2/
END:VEVENT
BEGIN:VEVENT
DTSTART;TZID=America/New_York:20220910T120000
DTEND;TZID=America/New_York:20220910T160000
DTSTAMP:20260421T124233
CREATED:20220822T175108Z
LAST-MODIFIED:20220822T175117Z
UID:31449-1662811200-1662825600@wbtai.com
SUMMARY:Classic Car Cruise
DESCRIPTION:Highpoint Community Church\, 1163 Main Street Road\, Corfu\, will host a classic car\, motorcycle\, and tractor cruise Saturday\, September 10\, noon to 4pm. (call 599-4500 for more information)
URL:https://wbtai.com/calendars/classic-car-cruise/
END:VEVENT
END:VCALENDAR