BEGIN:VCALENDAR
VERSION:2.0
PRODID:-//WBTA - ECPv6.14.0//NONSGML v1.0//EN
CALSCALE:GREGORIAN
METHOD:PUBLISH
X-ORIGINAL-URL:https://wbtai.com
X-WR-CALDESC:Events for WBTA
REFRESH-INTERVAL;VALUE=DURATION:PT1H
X-Robots-Tag:noindex
X-PUBLISHED-TTL:PT1H
BEGIN:VTIMEZONE
TZID:America/New_York
BEGIN:DAYLIGHT
TZOFFSETFROM:-0500
TZOFFSETTO:-0400
TZNAME:EDT
DTSTART:20220313T070000
END:DAYLIGHT
BEGIN:STANDARD
TZOFFSETFROM:-0400
TZOFFSETTO:-0500
TZNAME:EST
DTSTART:20221106T060000
END:STANDARD
END:VTIMEZONE
BEGIN:VEVENT
DTSTART;TZID=America/New_York:20220917T083000
DTEND;TZID=America/New_York:20220917T120000
DTSTAMP:20260421T124540
CREATED:20220802T181526Z
LAST-MODIFIED:20220802T181547Z
UID:31208-1663403400-1663416000@wbtai.com
SUMMARY:ArcGLOW 5K
DESCRIPTION:ArcGLOW Friends and Family 5K will be held Saturday\, September 17\, starting at the Day Habilitation Center on Barrville Road\, Elba. Registration opens at 8:45am; race or walk begins at 10am. Proceeds support programs and services for individuals with disabilities and scholarship opportunities.
URL:https://wbtai.com/calendars/arcglow-5k/
END:VEVENT
BEGIN:VEVENT
DTSTART;TZID=America/New_York:20220917T100000
DTEND;TZID=America/New_York:20220917T130000
DTSTAMP:20260421T124540
CREATED:20220907T190253Z
LAST-MODIFIED:20220907T190334Z
UID:31660-1663408800-1663419600@wbtai.com
SUMMARY:Fall Garden Gala
DESCRIPTION:Genesee County Fall Master Gardeners will host their annual Fall Garden Gala\, Saturday\, September 17\, 10am to 1pm\, on the grounds of the Cornell Cooperative Extension\, 420 East Main Street\, Batavia.
URL:https://wbtai.com/calendars/fall-garden-gala/
END:VEVENT
BEGIN:VEVENT
DTSTART;TZID=America/New_York:20220917T120000
DTEND;TZID=America/New_York:20220917T140000
DTSTAMP:20260421T124540
CREATED:20220907T183636Z
LAST-MODIFIED:20220907T183642Z
UID:31652-1663416000-1663423200@wbtai.com
SUMMARY:Corfu BBQ
DESCRIPTION:Corfu United Presbyterian Church\, 63 Alleghany Street\, will host a chicken BBQ\, Saturday\, September 17\, starting at noon until sold out. Call 599-6414 for tickets.
URL:https://wbtai.com/calendars/corfu-bbq/
END:VEVENT
BEGIN:VEVENT
DTSTART;TZID=America/New_York:20220917T160000
DTEND;TZID=America/New_York:20220917T203000
DTSTAMP:20260421T124540
CREATED:20220830T172333Z
LAST-MODIFIED:20220830T172347Z
UID:31558-1663430400-1663446600@wbtai.com
SUMMARY:Pasta Dinner
DESCRIPTION:Ascension Parish will host a pasta dinner\, Saturday\, September 17\, 4pm to 8:30pm\, at 17 Sumner Street\,  Batavia. Dinner served 4pm to 6pm with music and dancing to follow. Eat in or take out. Tickets available at the door.
URL:https://wbtai.com/calendars/pasta-dinner-3/
END:VEVENT
END:VCALENDAR