BEGIN:VCALENDAR
VERSION:2.0
PRODID:-//WBTA - ECPv6.14.0//NONSGML v1.0//EN
CALSCALE:GREGORIAN
METHOD:PUBLISH
X-WR-CALNAME:WBTA
X-ORIGINAL-URL:https://wbtai.com
X-WR-CALDESC:Events for WBTA
REFRESH-INTERVAL;VALUE=DURATION:PT1H
X-Robots-Tag:noindex
X-PUBLISHED-TTL:PT1H
BEGIN:VTIMEZONE
TZID:America/New_York
BEGIN:DAYLIGHT
TZOFFSETFROM:-0500
TZOFFSETTO:-0400
TZNAME:EDT
DTSTART:20220313T070000
END:DAYLIGHT
BEGIN:STANDARD
TZOFFSETFROM:-0400
TZOFFSETTO:-0500
TZNAME:EST
DTSTART:20221106T060000
END:STANDARD
END:VTIMEZONE
BEGIN:VEVENT
DTSTART;TZID=America/New_York:20220918T100000
DTEND;TZID=America/New_York:20220918T140000
DTSTAMP:20260421T122823
CREATED:20220907T184247Z
LAST-MODIFIED:20220907T184532Z
UID:31656-1663495200-1663509600@wbtai.com
SUMMARY:Brunch in the Burg
DESCRIPTION:Varysburg Fire Dept. Auxiliary will host “Brunch in the Burg” Sunday\, September 18\, at the Varysburg Fire Hall\, 10am to 2pm. Children 5 and under are free.
URL:https://wbtai.com/calendars/brunch-in-the-burg/
END:VEVENT
BEGIN:VEVENT
DTSTART;TZID=America/New_York:20220918T110000
DTEND;TZID=America/New_York:20220918T140000
DTSTAMP:20260421T122823
CREATED:20220816T162539Z
LAST-MODIFIED:20220816T162559Z
UID:31383-1663498800-1663509600@wbtai.com
SUMMARY:Chicken BBQ
DESCRIPTION:St. Paul Lutheran Church and School\, 31 Washington Avenue\, Batavia\, will host a chicken bbq\, Sunday\, September 18\, 11am to 2pm – Drive thru ONLY. Tickets available at the church office or call Diane at 356-8789.
URL:https://wbtai.com/calendars/chicken-bbq-42/
END:VEVENT
BEGIN:VEVENT
DTSTART;TZID=America/New_York:20220918T113000
DTEND;TZID=America/New_York:20220918T140000
DTSTAMP:20260421T122823
CREATED:20220906T180900Z
LAST-MODIFIED:20220906T180912Z
UID:31628-1663500600-1663509600@wbtai.com
SUMMARY:Chicken BBQ
DESCRIPTION:Elba Joint Fire District will host a take out only chicken bbq. Sunday\, September 18\, starting at 11:30 at the Elba Recreation Hall.
URL:https://wbtai.com/calendars/chicken-bbq-43/
END:VEVENT
BEGIN:VEVENT
DTSTART;TZID=America/New_York:20220918T130000
DTEND;TZID=America/New_York:20220918T170000
DTSTAMP:20260421T122823
CREATED:20220824T171811Z
LAST-MODIFIED:20220824T173615Z
UID:31487-1663506000-1663520400@wbtai.com
SUMMARY:VFA OctoFUR Party
DESCRIPTION:Join with the Volunteers 4 Animals Sunday\, September 18\, 1pm to 5pm\, at The Willow Bend Inn\, West Main street\, Batavia\, to Pawty to help the animals at the Shelter. Music\, food\, and fun!
URL:https://wbtai.com/calendars/vfa-octofur-party/
END:VEVENT
END:VCALENDAR